BEGIN:VCALENDAR
VERSION:2.0
PRODID:-//Bethel Hill United Methodist Church - ECPv6.15.1.1//NONSGML v1.0//EN
CALSCALE:GREGORIAN
METHOD:PUBLISH
X-WR-CALNAME:Bethel Hill United Methodist Church
X-ORIGINAL-URL:https://www.bethelhill.org
X-WR-CALDESC:Events for Bethel Hill United Methodist Church
REFRESH-INTERVAL;VALUE=DURATION:PT1H
X-Robots-Tag:noindex
X-PUBLISHED-TTL:PT1H
BEGIN:VTIMEZONE
TZID:America/New_York
BEGIN:DAYLIGHT
TZOFFSETFROM:-0500
TZOFFSETTO:-0400
TZNAME:EDT
DTSTART:20250309T070000
END:DAYLIGHT
BEGIN:STANDARD
TZOFFSETFROM:-0400
TZOFFSETTO:-0500
TZNAME:EST
DTSTART:20251102T060000
END:STANDARD
END:VTIMEZONE
BEGIN:VEVENT
DTSTART;TZID=America/New_York:20250410T140000
DTEND;TZID=America/New_York:20250410T190000
DTSTAMP:20260421T005938
CREATED:20250115T140030Z
LAST-MODIFIED:20250115T140030Z
UID:5561-1744293600-1744311600@www.bethelhill.org
SUMMARY:Red Cross Blood Drive
DESCRIPTION:
URL:https://www.bethelhill.org/event/red-cross-blood-drive-16/
LOCATION:Hayes Hall\, 2000 Bethel Rd\, LANSDALE\, PA\, 19446\, United States
END:VEVENT
BEGIN:VEVENT
DTSTART;TZID=America/New_York:20250410T190000
DTEND;TZID=America/New_York:20250410T200000
DTSTAMP:20260421T005938
CREATED:20250115T144445Z
LAST-MODIFIED:20250115T144445Z
UID:5613-1744311600-1744315200@www.bethelhill.org
SUMMARY:Choir Rehearsal
DESCRIPTION:
URL:https://www.bethelhill.org/event/choir-rehearsal-23/
LOCATION:SS Bldg.\, 2000 Bethel Rd\, LANSDALE\, PA\, 19446\, United States
END:VEVENT
BEGIN:VEVENT
DTSTART;TZID=America/New_York:20250411T180000
DTEND;TZID=America/New_York:20250411T200000
DTSTAMP:20260421T005938
CREATED:20250115T140335Z
LAST-MODIFIED:20250115T140335Z
UID:5565-1744394400-1744401600@www.bethelhill.org
SUMMARY:Private Group Meeting
DESCRIPTION:
URL:https://www.bethelhill.org/event/private-group-meeting-19/
LOCATION:SS Bldg.\, 2000 Bethel Rd\, LANSDALE\, PA\, 19446\, United States
END:VEVENT
BEGIN:VEVENT
DTSTART;TZID=America/New_York:20250412T090000
DTEND;TZID=America/New_York:20250412T100000
DTSTAMP:20260421T005938
CREATED:20250115T143142Z
LAST-MODIFIED:20250115T143142Z
UID:5599-1744448400-1744452000@www.bethelhill.org
SUMMARY:Women's Breakfast
DESCRIPTION:
URL:https://www.bethelhill.org/event/womens-breakfast-10/
LOCATION:Hayes Hall\, 2000 Bethel Rd\, LANSDALE\, PA\, 19446\, United States
END:VEVENT
BEGIN:VEVENT
DTSTART;TZID=America/New_York:20250413T080000
DTEND;TZID=America/New_York:20250413T170000
DTSTAMP:20260421T005938
CREATED:20220202T193956Z
LAST-MODIFIED:20220202T193956Z
UID:7152-1744531200-1744563600@www.bethelhill.org
SUMMARY:Worship
DESCRIPTION:
URL:https://www.bethelhill.org/event/worship-32-2024-06-02/2025-04-13/
LOCATION:Sanctuary\, 2000 Bethel Rd\, LANSDALE\, PA\, 19446\, United States
END:VEVENT
BEGIN:VEVENT
DTSTART;TZID=America/New_York:20250413T090000
DTEND;TZID=America/New_York:20250413T100000
DTSTAMP:20260421T005938
CREATED:20250115T140642Z
LAST-MODIFIED:20250115T140642Z
UID:5571-1744534800-1744538400@www.bethelhill.org
SUMMARY:Worship9
DESCRIPTION:
URL:https://www.bethelhill.org/event/worship9/
LOCATION:Sanctuary\, 2000 Bethel Rd\, LANSDALE\, PA\, 19446\, United States
END:VEVENT
BEGIN:VEVENT
DTSTART;TZID=America/New_York:20250413T103000
DTEND;TZID=America/New_York:20250413T113000
DTSTAMP:20260421T005938
CREATED:20250115T140738Z
LAST-MODIFIED:20250115T140738Z
UID:5573-1744540200-1744543800@www.bethelhill.org
SUMMARY:Worship 1030
DESCRIPTION:
URL:https://www.bethelhill.org/event/worship-1030/
LOCATION:Sanctuary\, 2000 Bethel Rd\, LANSDALE\, PA\, 19446\, United States
END:VEVENT
BEGIN:VEVENT
DTSTART;TZID=America/New_York:20250415T190000
DTEND;TZID=America/New_York:20250415T190000
DTSTAMP:20260421T005938
CREATED:20250115T140446Z
LAST-MODIFIED:20250115T140446Z
UID:5567-1744743600-1744743600@www.bethelhill.org
SUMMARY:Lenten Bible Study
DESCRIPTION:
URL:https://www.bethelhill.org/event/lenten-bible-study-19/
LOCATION:ZOOM
END:VEVENT
BEGIN:VEVENT
DTSTART;TZID=America/New_York:20250416T123000
DTEND;TZID=America/New_York:20250416T133000
DTSTAMP:20260421T005938
CREATED:20250115T140555Z
LAST-MODIFIED:20250115T140555Z
UID:5569-1744806600-1744810200@www.bethelhill.org
SUMMARY:Lunch Bunch
DESCRIPTION:
URL:https://www.bethelhill.org/event/lunch-bunch-39/
LOCATION:Hayes Hall\, 2000 Bethel Rd\, LANSDALE\, PA\, 19446\, United States
END:VEVENT
BEGIN:VEVENT
DTSTART;TZID=America/New_York:20250417T190000
DTEND;TZID=America/New_York:20250417T200000
DTSTAMP:20260421T005938
CREATED:20250115T141724Z
LAST-MODIFIED:20250115T141724Z
UID:5577-1744916400-1744920000@www.bethelhill.org
SUMMARY:Maundy Thursday service
DESCRIPTION:
URL:https://www.bethelhill.org/event/maundy-thursday-service-3/
LOCATION:Sanctuary\, 2000 Bethel Rd\, LANSDALE\, PA\, 19446\, United States
END:VEVENT
BEGIN:VEVENT
DTSTART;TZID=America/New_York:20250418T120000
DTEND;TZID=America/New_York:20250418T130000
DTSTAMP:20260421T005938
CREATED:20250115T141820Z
LAST-MODIFIED:20250115T141820Z
UID:5579-1744977600-1744981200@www.bethelhill.org
SUMMARY:Good Friday service
DESCRIPTION:
URL:https://www.bethelhill.org/event/good-friday-service-3/
LOCATION:Sanctuary\, 2000 Bethel Rd\, LANSDALE\, PA\, 19446\, United States
END:VEVENT
BEGIN:VEVENT
DTSTART;TZID=America/New_York:20250418T180000
DTEND;TZID=America/New_York:20250418T200000
DTSTAMP:20260421T005938
CREATED:20250115T143247Z
LAST-MODIFIED:20250115T143247Z
UID:5601-1744999200-1745006400@www.bethelhill.org
SUMMARY:Private Group Meeting
DESCRIPTION:
URL:https://www.bethelhill.org/event/private-group-meeting-21/
LOCATION:SS Bldg.\, 2000 Bethel Rd\, LANSDALE\, PA\, 19446\, United States
END:VEVENT
BEGIN:VEVENT
DTSTART;TZID=America/New_York:20250420T080000
DTEND;TZID=America/New_York:20250420T090000
DTSTAMP:20260421T005938
CREATED:20250115T141930Z
LAST-MODIFIED:20250128T192237Z
UID:5581-1745136000-1745139600@www.bethelhill.org
SUMMARY:Worship 800
DESCRIPTION:
URL:https://www.bethelhill.org/event/worship-900/
LOCATION:Sanctuary\, 2000 Bethel Rd\, LANSDALE\, PA\, 19446\, United States
END:VEVENT
BEGIN:VEVENT
DTSTART;TZID=America/New_York:20250420T080000
DTEND;TZID=America/New_York:20250420T170000
DTSTAMP:20260421T005938
CREATED:20220202T193956Z
LAST-MODIFIED:20220202T193956Z
UID:7153-1745136000-1745168400@www.bethelhill.org
SUMMARY:Worship
DESCRIPTION:
URL:https://www.bethelhill.org/event/worship-32-2024-06-02/2025-04-20/
LOCATION:Sanctuary\, 2000 Bethel Rd\, LANSDALE\, PA\, 19446\, United States
END:VEVENT
BEGIN:VEVENT
DTSTART;TZID=America/New_York:20250420T090000
DTEND;TZID=America/New_York:20250420T100000
DTSTAMP:20260421T005938
CREATED:20250128T192321Z
LAST-MODIFIED:20250128T192321Z
UID:5635-1745139600-1745143200@www.bethelhill.org
SUMMARY:Easter breakfast
DESCRIPTION:
URL:https://www.bethelhill.org/event/easter-breakfast/
LOCATION:Hayes Hall\, 2000 Bethel Rd\, LANSDALE\, PA\, 19446\, United States
END:VEVENT
BEGIN:VEVENT
DTSTART;TZID=America/New_York:20250420T103000
DTEND;TZID=America/New_York:20250420T113000
DTSTAMP:20260421T005938
CREATED:20250115T142032Z
LAST-MODIFIED:20250115T142032Z
UID:5583-1745145000-1745148600@www.bethelhill.org
SUMMARY:Worship 1030
DESCRIPTION:
URL:https://www.bethelhill.org/event/worship-1030-2/
LOCATION:Sanctuary\, 2000 Bethel Rd\, LANSDALE\, PA\, 19446\, United States
END:VEVENT
BEGIN:VEVENT
DTSTART;TZID=America/New_York:20250421T190000
DTEND;TZID=America/New_York:20250421T203000
DTSTAMP:20260421T005938
CREATED:20250115T142130Z
LAST-MODIFIED:20250115T142130Z
UID:5585-1745262000-1745267400@www.bethelhill.org
SUMMARY:Private Group Meeting – TM
DESCRIPTION:
URL:https://www.bethelhill.org/event/private-group-meeting-tm-4/
LOCATION:SS Bldg.\, 2000 Bethel Rd\, LANSDALE\, PA\, 19446\, United States
END:VEVENT
BEGIN:VEVENT
DTSTART;TZID=America/New_York:20250423T190000
DTEND;TZID=America/New_York:20250423T200000
DTSTAMP:20260421T005938
CREATED:20250115T142243Z
LAST-MODIFIED:20250115T142243Z
UID:5587-1745434800-1745438400@www.bethelhill.org
SUMMARY:Worship Team meeting
DESCRIPTION:
URL:https://www.bethelhill.org/event/worship-team-meeting-13/
LOCATION:SS Bldg.\, 2000 Bethel Rd\, LANSDALE\, PA\, 19446\, United States
END:VEVENT
BEGIN:VEVENT
DTSTART;TZID=America/New_York:20250424T181500
DTEND;TZID=America/New_York:20250424T190000
DTSTAMP:20260421T005938
CREATED:20250115T142351Z
LAST-MODIFIED:20250115T142351Z
UID:5589-1745518500-1745521200@www.bethelhill.org
SUMMARY:Praise Team Rehearsal
DESCRIPTION:
URL:https://www.bethelhill.org/event/praise-team-rehearsal-33/
LOCATION:Sanctuary\, 2000 Bethel Rd\, LANSDALE\, PA\, 19446\, United States
END:VEVENT
BEGIN:VEVENT
DTSTART;TZID=America/New_York:20250424T190000
DTEND;TZID=America/New_York:20250424T200000
DTSTAMP:20260421T005938
CREATED:20250115T144556Z
LAST-MODIFIED:20250115T144556Z
UID:5615-1745521200-1745524800@www.bethelhill.org
SUMMARY:Chimes Rehearsal
DESCRIPTION:
URL:https://www.bethelhill.org/event/chimes-rehearsal-9/
LOCATION:SS Bldg.\, 2000 Bethel Rd\, LANSDALE\, PA\, 19446\, United States
END:VEVENT
BEGIN:VEVENT
DTSTART;TZID=America/New_York:20250425T123000
DTEND;TZID=America/New_York:20250425T200000
DTSTAMP:20260421T005938
CREATED:20250115T142459Z
LAST-MODIFIED:20250115T142459Z
UID:5591-1745584200-1745611200@www.bethelhill.org
SUMMARY:Private Group Meeting
DESCRIPTION:
URL:https://www.bethelhill.org/event/private-group-meeting-20/
LOCATION:SS Bldg.\, 2000 Bethel Rd\, LANSDALE\, PA\, 19446\, United States
END:VEVENT
BEGIN:VEVENT
DTSTART;TZID=America/New_York:20250426T080000
DTEND;TZID=America/New_York:20250426T093000
DTSTAMP:20260421T005938
CREATED:20250115T142551Z
LAST-MODIFIED:20250115T142551Z
UID:5593-1745654400-1745659800@www.bethelhill.org
SUMMARY:Men's Breakfast
DESCRIPTION:
URL:https://www.bethelhill.org/event/mens-breakfast-6/
LOCATION:Hayes Hall\, 2000 Bethel Rd\, LANSDALE\, PA\, 19446\, United States
END:VEVENT
BEGIN:VEVENT
DTSTART;TZID=America/New_York:20250427T080000
DTEND;TZID=America/New_York:20250427T170000
DTSTAMP:20260421T005938
CREATED:20220202T193956Z
LAST-MODIFIED:20220202T193956Z
UID:7154-1745740800-1745773200@www.bethelhill.org
SUMMARY:Worship
DESCRIPTION:
URL:https://www.bethelhill.org/event/worship-32-2024-06-02/2025-04-27/
LOCATION:Sanctuary\, 2000 Bethel Rd\, LANSDALE\, PA\, 19446\, United States
END:VEVENT
BEGIN:VEVENT
DTSTART;TZID=America/New_York:20250427T090000
DTEND;TZID=America/New_York:20250427T100000
DTSTAMP:20260421T005938
CREATED:20250115T142637Z
LAST-MODIFIED:20250115T142637Z
UID:5595-1745744400-1745748000@www.bethelhill.org
SUMMARY:Worship 900
DESCRIPTION:
URL:https://www.bethelhill.org/event/worship-900-2/
LOCATION:Sanctuary\, 2000 Bethel Rd\, LANSDALE\, PA\, 19446\, United States
END:VEVENT
BEGIN:VEVENT
DTSTART;TZID=America/New_York:20250427T103000
DTEND;TZID=America/New_York:20250427T103000
DTSTAMP:20260421T005938
CREATED:20250115T142749Z
LAST-MODIFIED:20250115T142749Z
UID:5597-1745749800-1745749800@www.bethelhill.org
SUMMARY:Worship 1030
DESCRIPTION:
URL:https://www.bethelhill.org/event/worship-1030-3/
LOCATION:Sanctuary\, 2000 Bethel Rd\, LANSDALE\, PA\, 19446\, United States
END:VEVENT
BEGIN:VEVENT
DTSTART;TZID=America/New_York:20250428T133000
DTEND;TZID=America/New_York:20250428T143000
DTSTAMP:20260421T005938
CREATED:20250204T153747Z
LAST-MODIFIED:20250204T153747Z
UID:5710-1745847000-1745850600@www.bethelhill.org
SUMMARY:BUGLE  Mailing
DESCRIPTION:
URL:https://www.bethelhill.org/event/bugle-mailing-34/
LOCATION:SS Bldg.\, 2000 Bethel Rd\, LANSDALE\, PA\, 19446\, United States
END:VEVENT
BEGIN:VEVENT
DTSTART;TZID=America/New_York:20250430T190000
DTEND;TZID=America/New_York:20250430T200000
DTSTAMP:20260421T005938
CREATED:20250304T140423Z
LAST-MODIFIED:20250304T140423Z
UID:5799-1746039600-1746043200@www.bethelhill.org
SUMMARY:Church Council
DESCRIPTION:
URL:https://www.bethelhill.org/event/church-council-8/
LOCATION:Hayes Hall\, 2000 Bethel Rd\, LANSDALE\, PA\, 19446\, United States
END:VEVENT
BEGIN:VEVENT
DTSTART;TZID=America/New_York:20250501T190000
DTEND;TZID=America/New_York:20250501T200000
DTSTAMP:20260421T005938
CREATED:20250128T193501Z
LAST-MODIFIED:20250128T193501Z
UID:5659-1746126000-1746129600@www.bethelhill.org
SUMMARY:Choir Rehearsal
DESCRIPTION:
URL:https://www.bethelhill.org/event/choir-rehearsal-24/
LOCATION:SS Bldg.\, 2000 Bethel Rd\, LANSDALE\, PA\, 19446\, United States
END:VEVENT
BEGIN:VEVENT
DTSTART;TZID=America/New_York:20250502T180000
DTEND;TZID=America/New_York:20250502T200000
DTSTAMP:20260421T005938
CREATED:20250204T154146Z
LAST-MODIFIED:20250204T154146Z
UID:5712-1746208800-1746216000@www.bethelhill.org
SUMMARY:Private Group Meeting
DESCRIPTION:
URL:https://www.bethelhill.org/event/private-group-meeting-22/
LOCATION:SS Bldg.\, 2000 Bethel Rd\, LANSDALE\, PA\, 19446\, United States
END:VEVENT
BEGIN:VEVENT
DTSTART;TZID=America/New_York:20250504T080000
DTEND;TZID=America/New_York:20250504T170000
DTSTAMP:20260421T005938
CREATED:20220202T193956Z
LAST-MODIFIED:20220202T193956Z
UID:7155-1746345600-1746378000@www.bethelhill.org
SUMMARY:Worship
DESCRIPTION:
URL:https://www.bethelhill.org/event/worship-32-2024-06-02/2025-05-04/
LOCATION:Sanctuary\, 2000 Bethel Rd\, LANSDALE\, PA\, 19446\, United States
END:VEVENT
END:VCALENDAR