BEGIN:VCALENDAR
VERSION:2.0
PRODID:-//Bethel Hill United Methodist Church - ECPv6.15.1.1//NONSGML v1.0//EN
CALSCALE:GREGORIAN
METHOD:PUBLISH
X-WR-CALNAME:Bethel Hill United Methodist Church
X-ORIGINAL-URL:https://www.bethelhill.org
X-WR-CALDESC:Events for Bethel Hill United Methodist Church
REFRESH-INTERVAL;VALUE=DURATION:PT1H
X-Robots-Tag:noindex
X-PUBLISHED-TTL:PT1H
BEGIN:VTIMEZONE
TZID:America/New_York
BEGIN:DAYLIGHT
TZOFFSETFROM:-0500
TZOFFSETTO:-0400
TZNAME:EDT
DTSTART:20250309T070000
END:DAYLIGHT
BEGIN:STANDARD
TZOFFSETFROM:-0400
TZOFFSETTO:-0500
TZNAME:EST
DTSTART:20251102T060000
END:STANDARD
BEGIN:DAYLIGHT
TZOFFSETFROM:-0500
TZOFFSETTO:-0400
TZNAME:EDT
DTSTART:20260308T070000
END:DAYLIGHT
BEGIN:STANDARD
TZOFFSETFROM:-0400
TZOFFSETTO:-0500
TZNAME:EST
DTSTART:20261101T060000
END:STANDARD
END:VTIMEZONE
BEGIN:VEVENT
DTSTART;TZID=America/New_York:20251214T080000
DTEND;TZID=America/New_York:20251214T170000
DTSTAMP:20260420T061947
CREATED:20220202T193956Z
LAST-MODIFIED:20220202T193956Z
UID:7187-1765699200-1765731600@www.bethelhill.org
SUMMARY:Worship
DESCRIPTION:
URL:https://www.bethelhill.org/event/worship-32-2024-06-02/2025-12-14/
LOCATION:Sanctuary\, 2000 Bethel Rd\, LANSDALE\, PA\, 19446\, United States
END:VEVENT
BEGIN:VEVENT
DTSTART;TZID=America/New_York:20251214T090000
DTEND;TZID=America/New_York:20251214T100000
DTSTAMP:20260420T061947
CREATED:20250411T165758Z
LAST-MODIFIED:20250411T165758Z
UID:5990-1765702800-1765706400@www.bethelhill.org
SUMMARY:Worship900
DESCRIPTION:
URL:https://www.bethelhill.org/event/worship900-19/2025-12-14/
LOCATION:Sanctuary\, 2000 Bethel Rd\, LANSDALE\, PA\, 19446\, United States
END:VEVENT
BEGIN:VEVENT
DTSTART;TZID=America/New_York:20251214T103000
DTEND;TZID=America/New_York:20251214T113000
DTSTAMP:20260420T061947
CREATED:20250411T170030Z
LAST-MODIFIED:20250411T170030Z
UID:6004-1765708200-1765711800@www.bethelhill.org
SUMMARY:Worship1030
DESCRIPTION:
URL:https://www.bethelhill.org/event/worship1030-8/2025-12-14/
LOCATION:Sanctuary\, 2000 Bethel Rd\, LANSDALE\, PA\, 19446\, United States
END:VEVENT
BEGIN:VEVENT
DTSTART;TZID=America/New_York:20251214T160000
DTEND;TZID=America/New_York:20251214T180000
DTSTAMP:20260420T061947
CREATED:20251028T161820Z
LAST-MODIFIED:20251028T161820Z
UID:6515-1765728000-1765735200@www.bethelhill.org
SUMMARY:Drive-Thru Nativity Experience
DESCRIPTION:
URL:https://www.bethelhill.org/event/drive-thru-nativity-experience/
LOCATION:Church Parking Lot\, 2000 Bethel Rd\, Lansdale\, PA\, 19446\, United States
END:VEVENT
BEGIN:VEVENT
DTSTART;TZID=America/New_York:20251215T190000
DTEND;TZID=America/New_York:20251215T200000
DTSTAMP:20260420T061947
CREATED:20250522T180701Z
LAST-MODIFIED:20250522T180701Z
UID:6311-1765825200-1765828800@www.bethelhill.org
SUMMARY:Private Group Meeting – TM
DESCRIPTION:
URL:https://www.bethelhill.org/event/private-group-meeting-tm-20/
LOCATION:SS Bldg.\, 2000 Bethel Rd\, LANSDALE\, PA\, 19446\, United States
END:VEVENT
BEGIN:VEVENT
DTSTART;TZID=America/New_York:20251216T190000
DTEND;TZID=America/New_York:20251216T200000
DTSTAMP:20260420T061947
CREATED:20250515T183347Z
LAST-MODIFIED:20250515T183347Z
UID:6269-1765911600-1765915200@www.bethelhill.org
SUMMARY:Private Group Meeting
DESCRIPTION:
URL:https://www.bethelhill.org/event/private-group-meeting-44/2025-12-16/
LOCATION:SS Bldg.\, 2000 Bethel Rd\, LANSDALE\, PA\, 19446\, United States
END:VEVENT
BEGIN:VEVENT
DTSTART;TZID=America/New_York:20251216T190000
DTEND;TZID=America/New_York:20251216T200000
DTSTAMP:20260420T061947
CREATED:20251124T141654Z
LAST-MODIFIED:20251124T141654Z
UID:6665-1765911600-1765915200@www.bethelhill.org
SUMMARY:Advent Bible Study
DESCRIPTION:
URL:https://www.bethelhill.org/event/advent-bible-study-6/2025-12-16/
LOCATION:ZOOM
END:VEVENT
BEGIN:VEVENT
DTSTART;TZID=America/New_York:20251217T113000
DTEND;TZID=America/New_York:20251217T123000
DTSTAMP:20260420T061947
CREATED:20250515T182659Z
LAST-MODIFIED:20250710T183645Z
UID:6226-1765971000-1765974600@www.bethelhill.org
SUMMARY:Lunch Bunch
DESCRIPTION:
URL:https://www.bethelhill.org/event/lunch-bunch-45/2025-12-17/
LOCATION:Hayes Hall\, 2000 Bethel Rd\, LANSDALE\, PA\, 19446\, United States
END:VEVENT
BEGIN:VEVENT
DTSTART;TZID=America/New_York:20251217T190000
DTEND;TZID=America/New_York:20251217T203000
DTSTAMP:20260420T061947
CREATED:20250522T180101Z
LAST-MODIFIED:20250522T180101Z
UID:6305-1765998000-1766003400@www.bethelhill.org
SUMMARY:Church Council
DESCRIPTION:
URL:https://www.bethelhill.org/event/church-council-11/
LOCATION:SS Bldg.\, 2000 Bethel Rd\, LANSDALE\, PA\, 19446\, United States
END:VEVENT
BEGIN:VEVENT
DTSTART;TZID=America/New_York:20251218T190000
DTEND;TZID=America/New_York:20251218T200000
DTSTAMP:20260420T061947
CREATED:20250827T134945Z
LAST-MODIFIED:20251217T151628Z
UID:6406-1766084400-1766088000@www.bethelhill.org
SUMMARY:Cantata/Choir Rehearsal
DESCRIPTION:
URL:https://www.bethelhill.org/event/choir-rehearsal-37/
LOCATION:SS Bldg.\, 2000 Bethel Rd\, LANSDALE\, PA\, 19446\, United States
END:VEVENT
BEGIN:VEVENT
DTSTART;TZID=America/New_York:20251219T180000
DTEND;TZID=America/New_York:20251219T200000
DTSTAMP:20260420T061947
CREATED:20250515T180755Z
LAST-MODIFIED:20250515T180755Z
UID:6202-1766167200-1766174400@www.bethelhill.org
SUMMARY:Private Group Meeting
DESCRIPTION:
URL:https://www.bethelhill.org/event/private-group-meeting-43/2025-12-19/
LOCATION:Sanctuary\, 2000 Bethel Rd\, LANSDALE\, PA\, 19446\, United States
END:VEVENT
BEGIN:VEVENT
DTSTART;TZID=America/New_York:20251221T080000
DTEND;TZID=America/New_York:20251221T170000
DTSTAMP:20260420T061947
CREATED:20220202T193956Z
LAST-MODIFIED:20220202T193956Z
UID:7188-1766304000-1766336400@www.bethelhill.org
SUMMARY:Worship
DESCRIPTION:
URL:https://www.bethelhill.org/event/worship-32-2024-06-02/2025-12-21/
LOCATION:Sanctuary\, 2000 Bethel Rd\, LANSDALE\, PA\, 19446\, United States
END:VEVENT
BEGIN:VEVENT
DTSTART;TZID=America/New_York:20251221T090000
DTEND;TZID=America/New_York:20251221T100000
DTSTAMP:20260420T061947
CREATED:20250411T165758Z
LAST-MODIFIED:20250827T135146Z
UID:5992-1766307600-1766311200@www.bethelhill.org
SUMMARY:Christmas Cantata
DESCRIPTION:
URL:https://www.bethelhill.org/event/worship900-19/2025-12-21/
LOCATION:Sanctuary\, 2000 Bethel Rd\, LANSDALE\, PA\, 19446\, United States
END:VEVENT
BEGIN:VEVENT
DTSTART;TZID=America/New_York:20251221T103000
DTEND;TZID=America/New_York:20251221T113000
DTSTAMP:20260420T061947
CREATED:20250411T170030Z
LAST-MODIFIED:20250827T135236Z
UID:6006-1766313000-1766316600@www.bethelhill.org
SUMMARY:Christmas Cantata
DESCRIPTION:
URL:https://www.bethelhill.org/event/worship1030-8/2025-12-21/
LOCATION:Sanctuary\, 2000 Bethel Rd\, LANSDALE\, PA\, 19446\, United States
END:VEVENT
BEGIN:VEVENT
DTSTART;TZID=America/New_York:20251222T190000
DTEND;TZID=America/New_York:20251222T200000
DTSTAMP:20260420T061947
CREATED:20251028T153117Z
LAST-MODIFIED:20251028T153117Z
UID:6509-1766430000-1766433600@www.bethelhill.org
SUMMARY:Blue Christmas Service
DESCRIPTION:
URL:https://www.bethelhill.org/event/blue-christmas-service-5/
LOCATION:Sanctuary\, 2000 Bethel Rd\, LANSDALE\, PA\, 19446\, United States
END:VEVENT
BEGIN:VEVENT
DTSTART;TZID=America/New_York:20251223T190000
DTEND;TZID=America/New_York:20251223T200000
DTSTAMP:20260420T061947
CREATED:20250515T183347Z
LAST-MODIFIED:20250515T183347Z
UID:6270-1766516400-1766520000@www.bethelhill.org
SUMMARY:Private Group Meeting
DESCRIPTION:
URL:https://www.bethelhill.org/event/private-group-meeting-44/2025-12-23/
LOCATION:SS Bldg.\, 2000 Bethel Rd\, LANSDALE\, PA\, 19446\, United States
END:VEVENT
BEGIN:VEVENT
DTSTART;TZID=America/New_York:20251223T190000
DTEND;TZID=America/New_York:20251223T200000
DTSTAMP:20260420T061947
CREATED:20251124T141654Z
LAST-MODIFIED:20251124T141654Z
UID:6666-1766516400-1766520000@www.bethelhill.org
SUMMARY:Advent Bible Study
DESCRIPTION:
URL:https://www.bethelhill.org/event/advent-bible-study-6/2025-12-23/
LOCATION:ZOOM
END:VEVENT
BEGIN:VEVENT
DTSTART;TZID=America/New_York:20251224T180000
DTEND;TZID=America/New_York:20251224T190000
DTSTAMP:20260420T061947
CREATED:20251110T133725Z
LAST-MODIFIED:20251110T133725Z
UID:6529-1766599200-1766602800@www.bethelhill.org
SUMMARY:Christmas Eve Service
DESCRIPTION:
URL:https://www.bethelhill.org/event/christmas-eve-service-3/
LOCATION:Sanctuary\, 2000 Bethel Rd\, LANSDALE\, PA\, 19446\, United States
END:VEVENT
BEGIN:VEVENT
DTSTART;TZID=America/New_York:20251224T200000
DTEND;TZID=America/New_York:20251224T210000
DTSTAMP:20260420T061947
CREATED:20251028T153544Z
LAST-MODIFIED:20251028T153544Z
UID:6511-1766606400-1766610000@www.bethelhill.org
SUMMARY:Christmas Eve Service
DESCRIPTION:
URL:https://www.bethelhill.org/event/christmas-eve-service-2/
LOCATION:Sanctuary\, 2000 Bethel Rd\, LANSDALE\, PA\, 19446\, United States
END:VEVENT
BEGIN:VEVENT
DTSTART;TZID=America/New_York:20251225T080000
DTEND;TZID=America/New_York:20251225T170000
DTSTAMP:20260420T061947
CREATED:20251217T151726Z
LAST-MODIFIED:20251217T151726Z
UID:6760-1766649600-1766682000@www.bethelhill.org
SUMMARY:Church office closed
DESCRIPTION:
URL:https://www.bethelhill.org/event/church-office-closed-3/
END:VEVENT
BEGIN:VEVENT
DTSTART;TZID=America/New_York:20251226T180000
DTEND;TZID=America/New_York:20251226T200000
DTSTAMP:20260420T061947
CREATED:20250515T180755Z
LAST-MODIFIED:20250515T180755Z
UID:6203-1766772000-1766779200@www.bethelhill.org
SUMMARY:Private Group Meeting
DESCRIPTION:
URL:https://www.bethelhill.org/event/private-group-meeting-43/2025-12-26/
LOCATION:Sanctuary\, 2000 Bethel Rd\, LANSDALE\, PA\, 19446\, United States
END:VEVENT
BEGIN:VEVENT
DTSTART;TZID=America/New_York:20251228T080000
DTEND;TZID=America/New_York:20251228T170000
DTSTAMP:20260420T061947
CREATED:20220202T193956Z
LAST-MODIFIED:20220202T193956Z
UID:7189-1766908800-1766941200@www.bethelhill.org
SUMMARY:Worship
DESCRIPTION:
URL:https://www.bethelhill.org/event/worship-32-2024-06-02/2025-12-28/
LOCATION:Sanctuary\, 2000 Bethel Rd\, LANSDALE\, PA\, 19446\, United States
END:VEVENT
BEGIN:VEVENT
DTSTART;TZID=America/New_York:20251228T090000
DTEND;TZID=America/New_York:20251228T100000
DTSTAMP:20260420T061947
CREATED:20250411T165758Z
LAST-MODIFIED:20250411T165758Z
UID:5993-1766912400-1766916000@www.bethelhill.org
SUMMARY:Worship900
DESCRIPTION:
URL:https://www.bethelhill.org/event/worship900-19/2025-12-28/
LOCATION:Sanctuary\, 2000 Bethel Rd\, LANSDALE\, PA\, 19446\, United States
END:VEVENT
BEGIN:VEVENT
DTSTART;TZID=America/New_York:20251228T103000
DTEND;TZID=America/New_York:20251228T113000
DTSTAMP:20260420T061947
CREATED:20250411T170030Z
LAST-MODIFIED:20250411T170030Z
UID:6007-1766917800-1766921400@www.bethelhill.org
SUMMARY:Worship1030
DESCRIPTION:
URL:https://www.bethelhill.org/event/worship1030-8/2025-12-28/
LOCATION:Sanctuary\, 2000 Bethel Rd\, LANSDALE\, PA\, 19446\, United States
END:VEVENT
BEGIN:VEVENT
DTSTART;TZID=America/New_York:20251230T190000
DTEND;TZID=America/New_York:20251230T200000
DTSTAMP:20260420T061947
CREATED:20250515T183347Z
LAST-MODIFIED:20250515T183347Z
UID:6271-1767121200-1767124800@www.bethelhill.org
SUMMARY:Private Group Meeting
DESCRIPTION:
URL:https://www.bethelhill.org/event/private-group-meeting-44/2025-12-30/
LOCATION:SS Bldg.\, 2000 Bethel Rd\, LANSDALE\, PA\, 19446\, United States
END:VEVENT
BEGIN:VEVENT
DTSTART;TZID=America/New_York:20260101T080000
DTEND;TZID=America/New_York:20260101T170000
DTSTAMP:20260420T061947
CREATED:20251217T151825Z
LAST-MODIFIED:20251217T151825Z
UID:6762-1767254400-1767286800@www.bethelhill.org
SUMMARY:Church office closed
DESCRIPTION:
URL:https://www.bethelhill.org/event/church-office-closed-4/
END:VEVENT
BEGIN:VEVENT
DTSTART;TZID=America/New_York:20260102T180000
DTEND;TZID=America/New_York:20260102T200000
DTSTAMP:20260420T061947
CREATED:20251121T200043Z
LAST-MODIFIED:20251121T200043Z
UID:6568-1767376800-1767384000@www.bethelhill.org
SUMMARY:Private Group Meeting
DESCRIPTION:
URL:https://www.bethelhill.org/event/private-group-meeting-45/2026-01-02/
LOCATION:SS Bldg.\, 2000 Bethel Rd\, LANSDALE\, PA\, 19446\, United States
END:VEVENT
BEGIN:VEVENT
DTSTART;TZID=America/New_York:20260103T080000
DTEND;TZID=America/New_York:20260103T090000
DTSTAMP:20260420T061947
CREATED:20251124T143937Z
LAST-MODIFIED:20251124T143937Z
UID:6713-1767427200-1767430800@www.bethelhill.org
SUMMARY:Men's Breakfast
DESCRIPTION:
URL:https://www.bethelhill.org/event/mens-breakfast-10/
LOCATION:Hayes Hall\, 2000 Bethel Rd\, LANSDALE\, PA\, 19446\, United States
END:VEVENT
BEGIN:VEVENT
DTSTART;TZID=America/New_York:20260104T080000
DTEND;TZID=America/New_York:20260104T170000
DTSTAMP:20260420T061947
CREATED:20220202T193956Z
LAST-MODIFIED:20220202T193956Z
UID:7190-1767513600-1767546000@www.bethelhill.org
SUMMARY:Worship
DESCRIPTION:
URL:https://www.bethelhill.org/event/worship-32-2024-06-02/2026-01-04/
LOCATION:Sanctuary\, 2000 Bethel Rd\, LANSDALE\, PA\, 19446\, United States
END:VEVENT
BEGIN:VEVENT
DTSTART;TZID=America/New_York:20260104T090000
DTEND;TZID=America/New_York:20260104T100000
DTSTAMP:20260420T061947
CREATED:20251121T195327Z
LAST-MODIFIED:20251121T195327Z
UID:6533-1767517200-1767520800@www.bethelhill.org
SUMMARY:Worship 9:00AM
DESCRIPTION:
URL:https://www.bethelhill.org/event/worship-900am/2026-01-04/
LOCATION:Sanctuary\, 2000 Bethel Rd\, LANSDALE\, PA\, 19446\, United States
END:VEVENT
END:VCALENDAR