BEGIN:VCALENDAR
VERSION:2.0
PRODID:-//Bethel Hill United Methodist Church - ECPv6.15.1.1//NONSGML v1.0//EN
CALSCALE:GREGORIAN
METHOD:PUBLISH
X-WR-CALNAME:Bethel Hill United Methodist Church
X-ORIGINAL-URL:https://www.bethelhill.org
X-WR-CALDESC:Events for Bethel Hill United Methodist Church
REFRESH-INTERVAL;VALUE=DURATION:PT1H
X-Robots-Tag:noindex
X-PUBLISHED-TTL:PT1H
BEGIN:VTIMEZONE
TZID:America/New_York
BEGIN:DAYLIGHT
TZOFFSETFROM:-0500
TZOFFSETTO:-0400
TZNAME:EDT
DTSTART:20250309T070000
END:DAYLIGHT
BEGIN:STANDARD
TZOFFSETFROM:-0400
TZOFFSETTO:-0500
TZNAME:EST
DTSTART:20251102T060000
END:STANDARD
END:VTIMEZONE
BEGIN:VEVENT
DTSTART;TZID=America/New_York:20250308T080000
DTEND;TZID=America/New_York:20250308T170000
DTSTAMP:20260420T061857
CREATED:20250114T190349Z
LAST-MODIFIED:20250114T190349Z
UID:5520-1741420800-1741453200@www.bethelhill.org
SUMMARY:Tools for Ministry
DESCRIPTION:
URL:https://www.bethelhill.org/event/tools-for-ministry-2/
END:VEVENT
BEGIN:VEVENT
DTSTART;TZID=America/New_York:20250308T090000
DTEND;TZID=America/New_York:20250308T100000
DTSTAMP:20260420T061857
CREATED:20250114T190143Z
LAST-MODIFIED:20250114T190143Z
UID:5516-1741424400-1741428000@www.bethelhill.org
SUMMARY:Women's Breakfast
DESCRIPTION:
URL:https://www.bethelhill.org/event/womens-breakfast-9/
LOCATION:Hayes Hall\, 2000 Bethel Rd\, LANSDALE\, PA\, 19446\, United States
END:VEVENT
BEGIN:VEVENT
DTSTART;TZID=America/New_York:20250309T080000
DTEND;TZID=America/New_York:20250309T170000
DTSTAMP:20260420T061857
CREATED:20220202T193956Z
LAST-MODIFIED:20220202T193956Z
UID:7147-1741507200-1741539600@www.bethelhill.org
SUMMARY:Worship
DESCRIPTION:
URL:https://www.bethelhill.org/event/worship-32-2024-06-02/2025-03-09/
LOCATION:Sanctuary\, 2000 Bethel Rd\, LANSDALE\, PA\, 19446\, United States
END:VEVENT
BEGIN:VEVENT
DTSTART;TZID=America/New_York:20250309T090000
DTEND;TZID=America/New_York:20250309T100000
DTSTAMP:20260420T061857
CREATED:20250114T183402Z
LAST-MODIFIED:20250114T183402Z
UID:5486-1741510800-1741514400@www.bethelhill.org
SUMMARY:Worship1
DESCRIPTION:
URL:https://www.bethelhill.org/event/worship1/
LOCATION:Sanctuary\, 2000 Bethel Rd\, LANSDALE\, PA\, 19446\, United States
END:VEVENT
BEGIN:VEVENT
DTSTART;TZID=America/New_York:20250309T103000
DTEND;TZID=America/New_York:20250309T113000
DTSTAMP:20260420T061857
CREATED:20250114T183453Z
LAST-MODIFIED:20250114T183453Z
UID:5488-1741516200-1741519800@www.bethelhill.org
SUMMARY:Worship2
DESCRIPTION:
URL:https://www.bethelhill.org/event/worship2/
LOCATION:Sanctuary\, 2000 Bethel Rd\, LANSDALE\, PA\, 19446\, United States
END:VEVENT
BEGIN:VEVENT
DTSTART;TZID=America/New_York:20250310T080000
DTEND;TZID=America/New_York:20250310T170000
DTSTAMP:20260420T061857
CREATED:20250114T190453Z
LAST-MODIFIED:20250114T190453Z
UID:5522-1741593600-1741626000@www.bethelhill.org
SUMMARY:Trustees Team meeting
DESCRIPTION:
URL:https://www.bethelhill.org/event/trustees-team-meeting/
LOCATION:Hayes Hall\, 2000 Bethel Rd\, LANSDALE\, PA\, 19446\, United States
END:VEVENT
BEGIN:VEVENT
DTSTART;TZID=America/New_York:20250310T130000
DTEND;TZID=America/New_York:20250310T140000
DTSTAMP:20260420T061857
CREATED:20250114T192804Z
LAST-MODIFIED:20250114T192804Z
UID:5543-1741611600-1741615200@www.bethelhill.org
SUMMARY:SOMOCO Mission Link
DESCRIPTION:
URL:https://www.bethelhill.org/event/somoco-mission-link/
LOCATION:Hayes Hall\, 2000 Bethel Rd\, LANSDALE\, PA\, 19446\, United States
END:VEVENT
BEGIN:VEVENT
DTSTART;TZID=America/New_York:20250310T190000
DTEND;TZID=America/New_York:20250310T200000
DTSTAMP:20260420T061857
CREATED:20250114T190600Z
LAST-MODIFIED:20250114T190600Z
UID:5524-1741633200-1741636800@www.bethelhill.org
SUMMARY:Missions Team meeting
DESCRIPTION:
URL:https://www.bethelhill.org/event/missions-team-meeting-4/
LOCATION:SS Bldg.\, 2000 Bethel Rd\, LANSDALE\, PA\, 19446\, United States
END:VEVENT
BEGIN:VEVENT
DTSTART;TZID=America/New_York:20250311T190000
DTEND;TZID=America/New_York:20250311T200000
DTSTAMP:20260420T061857
CREATED:20250114T191103Z
LAST-MODIFIED:20250114T191103Z
UID:5530-1741719600-1741723200@www.bethelhill.org
SUMMARY:Lenten Bible Study
DESCRIPTION:
URL:https://www.bethelhill.org/event/lenten-bible-study-14/
LOCATION:ZOOM
END:VEVENT
BEGIN:VEVENT
DTSTART;TZID=America/New_York:20250312T190000
DTEND;TZID=America/New_York:20250312T210000
DTSTAMP:20260420T061857
CREATED:20250114T191503Z
LAST-MODIFIED:20250204T152240Z
UID:5537-1741806000-1741813200@www.bethelhill.org
SUMMARY:Community Lenten Service - Bethel Hill UMC
DESCRIPTION:
URL:https://www.bethelhill.org/event/community-lenten-service-2/
LOCATION:Sanctuary & Hayes Hall
END:VEVENT
BEGIN:VEVENT
DTSTART;TZID=America/New_York:20250313T190000
DTEND;TZID=America/New_York:20250313T200000
DTSTAMP:20260420T061857
CREATED:20250115T143925Z
LAST-MODIFIED:20250115T143925Z
UID:5605-1741892400-1741896000@www.bethelhill.org
SUMMARY:Choir Rehearsal
DESCRIPTION:
URL:https://www.bethelhill.org/event/choir-rehearsal-20/
LOCATION:SS Bldg.\, 2000 Bethel Rd\, LANSDALE\, PA\, 19446\, United States
END:VEVENT
BEGIN:VEVENT
DTSTART;TZID=America/New_York:20250314T180000
DTEND;TZID=America/New_York:20250314T200000
DTSTAMP:20260420T061857
CREATED:20250114T185321Z
LAST-MODIFIED:20250114T185321Z
UID:5509-1741975200-1741982400@www.bethelhill.org
SUMMARY:Private Group Meeting
DESCRIPTION:
URL:https://www.bethelhill.org/event/private-group-meeting-16/
LOCATION:SS Bldg.\, 2000 Bethel Rd\, LANSDALE\, PA\, 19446\, United States
END:VEVENT
BEGIN:VEVENT
DTSTART;TZID=America/New_York:20250315T080000
DTEND;TZID=America/New_York:20250315T170000
DTSTAMP:20260420T061857
CREATED:20250114T190750Z
LAST-MODIFIED:20250114T190750Z
UID:5528-1742025600-1742058000@www.bethelhill.org
SUMMARY:CROP?
DESCRIPTION:
URL:https://www.bethelhill.org/event/crop-2/
LOCATION:Hayes Hall\, 2000 Bethel Rd\, LANSDALE\, PA\, 19446\, United States
END:VEVENT
BEGIN:VEVENT
DTSTART;TZID=America/New_York:20250316T080000
DTEND;TZID=America/New_York:20250316T170000
DTSTAMP:20260420T061857
CREATED:20220202T193956Z
LAST-MODIFIED:20220202T193956Z
UID:7148-1742112000-1742144400@www.bethelhill.org
SUMMARY:Worship
DESCRIPTION:
URL:https://www.bethelhill.org/event/worship-32-2024-06-02/2025-03-16/
LOCATION:Sanctuary\, 2000 Bethel Rd\, LANSDALE\, PA\, 19446\, United States
END:VEVENT
BEGIN:VEVENT
DTSTART;TZID=America/New_York:20250316T090000
DTEND;TZID=America/New_York:20250316T100000
DTSTAMP:20260420T061857
CREATED:20250114T183532Z
LAST-MODIFIED:20250114T183532Z
UID:5490-1742115600-1742119200@www.bethelhill.org
SUMMARY:Worship1
DESCRIPTION:
URL:https://www.bethelhill.org/event/worship1-2/
LOCATION:Sanctuary\, 2000 Bethel Rd\, LANSDALE\, PA\, 19446\, United States
END:VEVENT
BEGIN:VEVENT
DTSTART;TZID=America/New_York:20250316T103000
DTEND;TZID=America/New_York:20250316T113000
DTSTAMP:20260420T061857
CREATED:20250114T183617Z
LAST-MODIFIED:20250114T183617Z
UID:5492-1742121000-1742124600@www.bethelhill.org
SUMMARY:Worship2
DESCRIPTION:
URL:https://www.bethelhill.org/event/worship2-2/
LOCATION:Sanctuary\, 2000 Bethel Rd\, LANSDALE\, PA\, 19446\, United States
END:VEVENT
BEGIN:VEVENT
DTSTART;TZID=America/New_York:20250316T150500
DTEND;TZID=America/New_York:20250316T180000
DTSTAMP:20260420T061857
CREATED:20250123T164914Z
LAST-MODIFIED:20250123T164914Z
UID:5623-1742137500-1742148000@www.bethelhill.org
SUMMARY:Faith Night at the Phantoms
DESCRIPTION:
URL:https://www.bethelhill.org/event/faith-night-at-the-phantoms/
LOCATION:Allenton\, PA
END:VEVENT
BEGIN:VEVENT
DTSTART;TZID=America/New_York:20250317T190000
DTEND;TZID=America/New_York:20250317T203000
DTSTAMP:20260420T061857
CREATED:20250114T184519Z
LAST-MODIFIED:20250114T184519Z
UID:5505-1742238000-1742243400@www.bethelhill.org
SUMMARY:Private Group Meeting - TM
DESCRIPTION:
URL:https://www.bethelhill.org/event/private-group-meeting-tm-2/
LOCATION:SS Bldg.\, 2000 Bethel Rd\, LANSDALE\, PA\, 19446\, United States
END:VEVENT
BEGIN:VEVENT
DTSTART;TZID=America/New_York:20250318T190000
DTEND;TZID=America/New_York:20250318T200000
DTSTAMP:20260420T061857
CREATED:20250114T191214Z
LAST-MODIFIED:20250114T191214Z
UID:5532-1742324400-1742328000@www.bethelhill.org
SUMMARY:Lenten Bible Study
DESCRIPTION:
URL:https://www.bethelhill.org/event/lenten-bible-study-15/
LOCATION:ZOOM
END:VEVENT
BEGIN:VEVENT
DTSTART;TZID=America/New_York:20250319T123000
DTEND;TZID=America/New_York:20250319T133000
DTSTAMP:20260420T061857
CREATED:20250114T190705Z
LAST-MODIFIED:20250114T190705Z
UID:5526-1742387400-1742391000@www.bethelhill.org
SUMMARY:Lunch Bunch
DESCRIPTION:
URL:https://www.bethelhill.org/event/lunch-bunch-38/
LOCATION:Hayes Hall\, 2000 Bethel Rd\, LANSDALE\, PA\, 19446\, United States
END:VEVENT
BEGIN:VEVENT
DTSTART;TZID=America/New_York:20250319T190000
DTEND;TZID=America/New_York:20250319T200000
DTSTAMP:20260420T061857
CREATED:20250204T151721Z
LAST-MODIFIED:20250204T152344Z
UID:5687-1742410800-1742414400@www.bethelhill.org
SUMMARY:Community Lenten Service - Olivet-Schwenkfelder UCC
DESCRIPTION:
URL:https://www.bethelhill.org/event/community-lenten-service-olivet-schwenkfelder-ucc/
LOCATION:619 Township Line Road\, Norristown
END:VEVENT
BEGIN:VEVENT
DTSTART;TZID=America/New_York:20250320T190000
DTEND;TZID=America/New_York:20250320T200000
DTSTAMP:20260420T061857
CREATED:20250115T144018Z
LAST-MODIFIED:20250115T144018Z
UID:5607-1742497200-1742500800@www.bethelhill.org
SUMMARY:Choir Rehearsal
DESCRIPTION:
URL:https://www.bethelhill.org/event/choir-rehearsal-21/
LOCATION:SS Bldg.\, 2000 Bethel Rd\, LANSDALE\, PA\, 19446\, United States
END:VEVENT
BEGIN:VEVENT
DTSTART;TZID=America/New_York:20250321T180000
DTEND;TZID=America/New_York:20250321T200000
DTSTAMP:20260420T061857
CREATED:20250114T185522Z
LAST-MODIFIED:20250114T185522Z
UID:5511-1742580000-1742587200@www.bethelhill.org
SUMMARY:Private Group Meeting
DESCRIPTION:
URL:https://www.bethelhill.org/event/private-group-meeting-17/
END:VEVENT
BEGIN:VEVENT
DTSTART;TZID=America/New_York:20250323T080000
DTEND;TZID=America/New_York:20250323T170000
DTSTAMP:20260420T061857
CREATED:20220202T193956Z
LAST-MODIFIED:20220202T193956Z
UID:7149-1742716800-1742749200@www.bethelhill.org
SUMMARY:Worship
DESCRIPTION:
URL:https://www.bethelhill.org/event/worship-32-2024-06-02/2025-03-23/
LOCATION:Sanctuary\, 2000 Bethel Rd\, LANSDALE\, PA\, 19446\, United States
END:VEVENT
BEGIN:VEVENT
DTSTART;TZID=America/New_York:20250323T090000
DTEND;TZID=America/New_York:20250323T103000
DTSTAMP:20260420T061857
CREATED:20250114T183657Z
LAST-MODIFIED:20250114T183657Z
UID:5494-1742720400-1742725800@www.bethelhill.org
SUMMARY:Worship1
DESCRIPTION:
URL:https://www.bethelhill.org/event/worship1-3/
LOCATION:Sanctuary\, 2000 Bethel Rd\, LANSDALE\, PA\, 19446\, United States
END:VEVENT
BEGIN:VEVENT
DTSTART;TZID=America/New_York:20250323T103000
DTEND;TZID=America/New_York:20250323T113000
DTSTAMP:20260420T061857
CREATED:20250114T183739Z
LAST-MODIFIED:20250114T183739Z
UID:5496-1742725800-1742729400@www.bethelhill.org
SUMMARY:Worship2
DESCRIPTION:
URL:https://www.bethelhill.org/event/worship2-3/
LOCATION:Sanctuary\, 2000 Bethel Rd\, LANSDALE\, PA\, 19446\, United States
END:VEVENT
BEGIN:VEVENT
DTSTART;TZID=America/New_York:20250323T150000
DTEND;TZID=America/New_York:20250323T203000
DTSTAMP:20260420T061857
CREATED:20250323T070015Z
LAST-MODIFIED:20250123T164633Z
UID:5540-1742742000-1742761800@www.bethelhill.org
SUMMARY:Help Build Hope Spaghetti Dinner
DESCRIPTION:
URL:https://www.bethelhill.org/event/help-build-hope-spaghetti-dinner/
LOCATION:Hayes Hall\, 2000 Bethel Rd\, LANSDALE\, PA\, 19446\, United States
END:VEVENT
BEGIN:VEVENT
DTSTART;TZID=America/New_York:20250323T170000
DTEND;TZID=America/New_York:20250323T200000
DTSTAMP:20260420T061857
CREATED:20250123T165049Z
LAST-MODIFIED:20250204T151247Z
UID:5626-1742749200-1742760000@www.bethelhill.org
SUMMARY:Spaghetti dinner for Help Build Hope
DESCRIPTION:
URL:https://www.bethelhill.org/event/spaghetti-dinner-for-help-build-hope/
LOCATION:Hayes Hall\, 2000 Bethel Rd\, LANSDALE\, PA\, 19446\, United States
END:VEVENT
BEGIN:VEVENT
DTSTART;TZID=America/New_York:20250325T190000
DTEND;TZID=America/New_York:20250325T200000
DTSTAMP:20260420T061857
CREATED:20250114T191308Z
LAST-MODIFIED:20250114T191308Z
UID:5535-1742929200-1742932800@www.bethelhill.org
SUMMARY:Lenten Bible Study
DESCRIPTION:
URL:https://www.bethelhill.org/event/lenten-bible-study-16/
LOCATION:ZOOM
END:VEVENT
BEGIN:VEVENT
DTSTART;TZID=America/New_York:20250326T190000
DTEND;TZID=America/New_York:20250326T200000
DTSTAMP:20260420T061857
CREATED:20250204T152001Z
LAST-MODIFIED:20250204T152608Z
UID:5689-1743015600-1743019200@www.bethelhill.org
SUMMARY:Community Lenten Service - Trinity Episcopal Church
DESCRIPTION:
URL:https://www.bethelhill.org/event/community-lenten-service-trinity-epispocal/
LOCATION:750 Skippack Pike\, Blue Bell
END:VEVENT
END:VCALENDAR