BEGIN:VCALENDAR
VERSION:2.0
PRODID:-//Bethel Hill United Methodist Church - ECPv6.15.1.1//NONSGML v1.0//EN
CALSCALE:GREGORIAN
METHOD:PUBLISH
X-WR-CALNAME:Bethel Hill United Methodist Church
X-ORIGINAL-URL:https://www.bethelhill.org
X-WR-CALDESC:Events for Bethel Hill United Methodist Church
REFRESH-INTERVAL;VALUE=DURATION:PT1H
X-Robots-Tag:noindex
X-PUBLISHED-TTL:PT1H
BEGIN:VTIMEZONE
TZID:America/New_York
BEGIN:DAYLIGHT
TZOFFSETFROM:-0500
TZOFFSETTO:-0400
TZNAME:EDT
DTSTART:20240310T070000
END:DAYLIGHT
BEGIN:STANDARD
TZOFFSETFROM:-0400
TZOFFSETTO:-0500
TZNAME:EST
DTSTART:20241103T060000
END:STANDARD
BEGIN:DAYLIGHT
TZOFFSETFROM:-0500
TZOFFSETTO:-0400
TZNAME:EDT
DTSTART:20250309T070000
END:DAYLIGHT
BEGIN:STANDARD
TZOFFSETFROM:-0400
TZOFFSETTO:-0500
TZNAME:EST
DTSTART:20251102T060000
END:STANDARD
END:VTIMEZONE
BEGIN:VEVENT
DTSTART;TZID=America/New_York:20250117T183000
DTEND;TZID=America/New_York:20250117T200000
DTSTAMP:20260420T080655
CREATED:20241210T164028Z
LAST-MODIFIED:20241210T164028Z
UID:5284-1737138600-1737144000@www.bethelhill.org
SUMMARY:Private Group Meeting
DESCRIPTION:
URL:https://www.bethelhill.org/event/private-group-meeting-8/
LOCATION:SS Bldg.\, 2000 Bethel Rd\, LANSDALE\, PA\, 19446\, United States
END:VEVENT
BEGIN:VEVENT
DTSTART;TZID=America/New_York:20250116T190000
DTEND;TZID=America/New_York:20250116T200000
DTSTAMP:20260420T080655
CREATED:20241211T190153Z
LAST-MODIFIED:20241211T190153Z
UID:5349-1737054000-1737057600@www.bethelhill.org
SUMMARY:Choir Rehearsal
DESCRIPTION:
URL:https://www.bethelhill.org/event/choir-rehearsal-13/
LOCATION:SS Bldg.\, 2000 Bethel Rd\, LANSDALE\, PA\, 19446\, United States
END:VEVENT
BEGIN:VEVENT
DTSTART;TZID=America/New_York:20250116T181500
DTEND;TZID=America/New_York:20250116T190000
DTSTAMP:20260420T080655
CREATED:20250106T181838Z
LAST-MODIFIED:20250106T181838Z
UID:5382-1737051300-1737054000@www.bethelhill.org
SUMMARY:Praise Band Rehearsal
DESCRIPTION:
URL:https://www.bethelhill.org/event/praise-band-rehearsal-5/
LOCATION:Sanctuary\, 2000 Bethel Rd\, LANSDALE\, PA\, 19446\, United States
END:VEVENT
BEGIN:VEVENT
DTSTART;TZID=America/New_York:20250115T123000
DTEND;TZID=America/New_York:20250115T133000
DTSTAMP:20260420T080655
CREATED:20241210T164520Z
LAST-MODIFIED:20241210T164520Z
UID:5292-1736944200-1736947800@www.bethelhill.org
SUMMARY:Lunch Bunch
DESCRIPTION:
URL:https://www.bethelhill.org/event/lunch-bunch-36/
LOCATION:Hayes Hall\, 2000 Bethel Rd\, LANSDALE\, PA\, 19446\, United States
END:VEVENT
BEGIN:VEVENT
DTSTART;TZID=America/New_York:20250113T190000
DTEND;TZID=America/New_York:20250113T200000
DTSTAMP:20260420T080655
CREATED:20250113T133844Z
LAST-MODIFIED:20250113T133844Z
UID:5396-1736794800-1736798400@www.bethelhill.org
SUMMARY:Trustees meeting
DESCRIPTION:
URL:https://www.bethelhill.org/event/trustees-meeting-21/
LOCATION:SS Bldg.\, 2000 Bethel Rd\, LANSDALE\, PA\, 19446\, United States
END:VEVENT
BEGIN:VEVENT
DTSTART;TZID=America/New_York:20250112T103000
DTEND;TZID=America/New_York:20250112T113000
DTSTAMP:20260420T080655
CREATED:20241210T161821Z
LAST-MODIFIED:20241210T161821Z
UID:5262-1736677800-1736681400@www.bethelhill.org
SUMMARY:Worship
DESCRIPTION:
URL:https://www.bethelhill.org/event/worship-48/
LOCATION:Sanctuary\, 2000 Bethel Rd\, LANSDALE\, PA\, 19446\, United States
END:VEVENT
BEGIN:VEVENT
DTSTART;TZID=America/New_York:20250112T090000
DTEND;TZID=America/New_York:20250112T100000
DTSTAMP:20260420T080655
CREATED:20241210T161726Z
LAST-MODIFIED:20241210T161726Z
UID:5260-1736672400-1736676000@www.bethelhill.org
SUMMARY:Worship
DESCRIPTION:
URL:https://www.bethelhill.org/event/worship-47/
LOCATION:Sanctuary\, 2000 Bethel Rd\, LANSDALE\, PA\, 19446\, United States
END:VEVENT
BEGIN:VEVENT
DTSTART;TZID=America/New_York:20250112T080000
DTEND;TZID=America/New_York:20250112T170000
DTSTAMP:20260420T080655
CREATED:20220202T193956Z
LAST-MODIFIED:20220202T193956Z
UID:7139-1736668800-1736701200@www.bethelhill.org
SUMMARY:Worship
DESCRIPTION:
URL:https://www.bethelhill.org/event/worship-32-2024-06-02/2025-01-12/
LOCATION:Sanctuary\, 2000 Bethel Rd\, LANSDALE\, PA\, 19446\, United States
END:VEVENT
BEGIN:VEVENT
DTSTART;TZID=America/New_York:20250111T090000
DTEND;TZID=America/New_York:20250111T100000
DTSTAMP:20260420T080655
CREATED:20241210T164623Z
LAST-MODIFIED:20241210T164623Z
UID:5294-1736586000-1736589600@www.bethelhill.org
SUMMARY:Women's Breakfast
DESCRIPTION:
URL:https://www.bethelhill.org/event/womens-breakfast-7/
LOCATION:Hayes Hall\, 2000 Bethel Rd\, LANSDALE\, PA\, 19446\, United States
END:VEVENT
BEGIN:VEVENT
DTSTART;TZID=America/New_York:20250110T183000
DTEND;TZID=America/New_York:20250110T200000
DTSTAMP:20260420T080655
CREATED:20241210T163938Z
LAST-MODIFIED:20241210T163938Z
UID:5282-1736533800-1736539200@www.bethelhill.org
SUMMARY:Private Group Meeting
DESCRIPTION:
URL:https://www.bethelhill.org/event/private-group-meeting-7/
LOCATION:SS Bldg.\, 2000 Bethel Rd\, LANSDALE\, PA\, 19446\, United States
END:VEVENT
BEGIN:VEVENT
DTSTART;VALUE=DATE:20250110
DTEND;VALUE=DATE:20250111
DTSTAMP:20260420T080655
CREATED:20250114T174509Z
LAST-MODIFIED:20250114T174509Z
UID:5401-1736467200-1736553599@www.bethelhill.org
SUMMARY:BUGLE Info Due
DESCRIPTION:
URL:https://www.bethelhill.org/event/bugle-info-due-13/
END:VEVENT
BEGIN:VEVENT
DTSTART;TZID=America/New_York:20250109T190000
DTEND;TZID=America/New_York:20250109T200000
DTSTAMP:20260420T080655
CREATED:20241211T190106Z
LAST-MODIFIED:20241211T190106Z
UID:5347-1736449200-1736452800@www.bethelhill.org
SUMMARY:Choir Rehearsal
DESCRIPTION:
URL:https://www.bethelhill.org/event/choir-rehearsal-12/
LOCATION:SS Bldg.\, 2000 Bethel Rd\, LANSDALE\, PA\, 19446\, United States
END:VEVENT
BEGIN:VEVENT
DTSTART;TZID=America/New_York:20250109T181500
DTEND;TZID=America/New_York:20250109T190000
DTSTAMP:20260420T080655
CREATED:20250106T181737Z
LAST-MODIFIED:20250106T181737Z
UID:5380-1736446500-1736449200@www.bethelhill.org
SUMMARY:Praise Band Rehearsal
DESCRIPTION:
URL:https://www.bethelhill.org/event/praise-band-rehearsal-4/
LOCATION:Sanctuary\, 2000 Bethel Rd\, LANSDALE\, PA\, 19446\, United States
END:VEVENT
BEGIN:VEVENT
DTSTART;TZID=America/New_York:20250108T190000
DTEND;TZID=America/New_York:20250108T200000
DTSTAMP:20260420T080655
CREATED:20241210T164421Z
LAST-MODIFIED:20241210T164421Z
UID:5290-1736362800-1736366400@www.bethelhill.org
SUMMARY:Missions Team meeting
DESCRIPTION:
URL:https://www.bethelhill.org/event/missions-team-meeting-3/
LOCATION:SS Bldg.\, 2000 Bethel Rd\, LANSDALE\, PA\, 19446\, United States
END:VEVENT
BEGIN:VEVENT
DTSTART;TZID=America/New_York:20250106T190000
DTEND;TZID=America/New_York:20250106T190000
DTSTAMP:20260420T080655
CREATED:20241210T163051Z
LAST-MODIFIED:20241211T163754Z
UID:5272-1736190000-1736190000@www.bethelhill.org
SUMMARY:Private Group Meeting - TM
DESCRIPTION:
URL:https://www.bethelhill.org/event/private-group-meeting-2/
LOCATION:SS Bldg.\, 2000 Bethel Rd\, LANSDALE\, PA\, 19446\, United States
END:VEVENT
BEGIN:VEVENT
DTSTART;TZID=America/New_York:20250105T090000
DTEND;TZID=America/New_York:20250105T090000
DTSTAMP:20260420T080655
CREATED:20220202T193842Z
LAST-MODIFIED:20240415T170041Z
UID:3630-1736067600-1736067600@www.bethelhill.org
SUMMARY:Worship
DESCRIPTION:
URL:https://www.bethelhill.org/event/worship-31-2024-06-02/2025-01-05/
LOCATION:Sanctuary\, 2000 Bethel Rd\, LANSDALE\, PA\, 19446\, United States
END:VEVENT
BEGIN:VEVENT
DTSTART;TZID=America/New_York:20250105T080000
DTEND;TZID=America/New_York:20250105T170000
DTSTAMP:20260420T080655
CREATED:20220202T193956Z
LAST-MODIFIED:20220202T193956Z
UID:7138-1736064000-1736096400@www.bethelhill.org
SUMMARY:Worship
DESCRIPTION:
URL:https://www.bethelhill.org/event/worship-32-2024-06-02/2025-01-05/
LOCATION:Sanctuary\, 2000 Bethel Rd\, LANSDALE\, PA\, 19446\, United States
END:VEVENT
BEGIN:VEVENT
DTSTART;TZID=America/New_York:20250103T183000
DTEND;TZID=America/New_York:20250103T200000
DTSTAMP:20260420T080655
CREATED:20241210T163837Z
LAST-MODIFIED:20241210T164252Z
UID:5280-1735929000-1735934400@www.bethelhill.org
SUMMARY:Private Group Meeting
DESCRIPTION:
URL:https://www.bethelhill.org/event/private-group-meeting-6/
LOCATION:SS Bldg.\, 2000 Bethel Rd\, LANSDALE\, PA\, 19446\, United States
END:VEVENT
BEGIN:VEVENT
DTSTART;TZID=America/New_York:20241229T090000
DTEND;TZID=America/New_York:20241229T090000
DTSTAMP:20260420T080655
CREATED:20220202T193842Z
LAST-MODIFIED:20240415T170041Z
UID:3622-1735462800-1735462800@www.bethelhill.org
SUMMARY:Worship
DESCRIPTION:
URL:https://www.bethelhill.org/event/worship-31-2024-06-02/2024-12-29/
LOCATION:Sanctuary\, 2000 Bethel Rd\, LANSDALE\, PA\, 19446\, United States
END:VEVENT
BEGIN:VEVENT
DTSTART;TZID=America/New_York:20241229T080000
DTEND;TZID=America/New_York:20241229T170000
DTSTAMP:20260420T080655
CREATED:20220202T193956Z
LAST-MODIFIED:20220202T193956Z
UID:7137-1735459200-1735491600@www.bethelhill.org
SUMMARY:Worship
DESCRIPTION:
URL:https://www.bethelhill.org/event/worship-32-2024-06-02/2024-12-29/
LOCATION:Sanctuary\, 2000 Bethel Rd\, LANSDALE\, PA\, 19446\, United States
END:VEVENT
BEGIN:VEVENT
DTSTART;TZID=America/New_York:20241228T080000
DTEND;TZID=America/New_York:20241228T090000
DTSTAMP:20260420T080655
CREATED:20240109T152736Z
LAST-MODIFIED:20240109T152736Z
UID:4436-1735372800-1735376400@www.bethelhill.org
SUMMARY:Men's Breakfast
DESCRIPTION:
URL:https://www.bethelhill.org/event/mens-breakfast-2/2024-12-28/
LOCATION:Hayes Hall\, 2000 Bethel Rd\, LANSDALE\, PA\, 19446\, United States
END:VEVENT
BEGIN:VEVENT
DTSTART;TZID=America/New_York:20241227T183000
DTEND;TZID=America/New_York:20241227T200000
DTSTAMP:20260420T080655
CREATED:20240109T152127Z
LAST-MODIFIED:20240109T152127Z
UID:4418-1735324200-1735329600@www.bethelhill.org
SUMMARY:Private Group Meeting
DESCRIPTION:
URL:https://www.bethelhill.org/event/private-group-meeting/2024-12-27/
LOCATION:SS Bldg.\, 2000 Bethel Rd\, LANSDALE\, PA\, 19446\, United States
END:VEVENT
BEGIN:VEVENT
DTSTART;TZID=America/New_York:20241224T200000
DTEND;TZID=America/New_York:20241224T210000
DTSTAMP:20260420T080655
CREATED:20241202T133112Z
LAST-MODIFIED:20241202T133206Z
UID:5252-1735070400-1735074000@www.bethelhill.org
SUMMARY:Candlelight & Choir service
DESCRIPTION:
URL:https://www.bethelhill.org/event/candlelight-choir-service/
END:VEVENT
BEGIN:VEVENT
DTSTART;TZID=America/New_York:20241224T180000
DTEND;TZID=America/New_York:20241224T190000
DTSTAMP:20260420T080655
CREATED:20241202T133029Z
LAST-MODIFIED:20241202T133029Z
UID:5250-1735063200-1735066800@www.bethelhill.org
SUMMARY:Children & Family Service
DESCRIPTION:
URL:https://www.bethelhill.org/event/children-family-service/
LOCATION:Sanctuary\, 2000 Bethel Rd\, LANSDALE\, PA\, 19446\, United States
END:VEVENT
BEGIN:VEVENT
DTSTART;TZID=America/New_York:20241223T190000
DTEND;TZID=America/New_York:20241223T200000
DTSTAMP:20260420T080655
CREATED:20240910T162827Z
LAST-MODIFIED:20240910T162827Z
UID:5180-1734980400-1734984000@www.bethelhill.org
SUMMARY:Blue Christmas Service
DESCRIPTION:
URL:https://www.bethelhill.org/event/blue-christmas-service-4/
LOCATION:Sanctuary\, 2000 Bethel Rd\, LANSDALE\, PA\, 19446\, United States
END:VEVENT
BEGIN:VEVENT
DTSTART;TZID=America/New_York:20241223T133000
DTEND;TZID=America/New_York:20241223T140000
DTSTAMP:20260420T080655
CREATED:20241014T165528Z
LAST-MODIFIED:20241014T165528Z
UID:5218-1734960600-1734962400@www.bethelhill.org
SUMMARY:BUGLE Mailing
DESCRIPTION:
URL:https://www.bethelhill.org/event/bugle-mailing-32/
LOCATION:SS Bldg.\, 2000 Bethel Rd\, LANSDALE\, PA\, 19446\, United States
END:VEVENT
BEGIN:VEVENT
DTSTART;TZID=America/New_York:20241222T090000
DTEND;TZID=America/New_York:20241222T233000
DTSTAMP:20260420T080655
CREATED:20240910T162948Z
LAST-MODIFIED:20240910T162948Z
UID:5182-1734858000-1734910200@www.bethelhill.org
SUMMARY:Christmas Cantata
DESCRIPTION:
URL:https://www.bethelhill.org/event/christmas-cantata-2/
LOCATION:Sanctuary\, 2000 Bethel Rd\, LANSDALE\, PA\, 19446\, United States
END:VEVENT
BEGIN:VEVENT
DTSTART;TZID=America/New_York:20241222T090000
DTEND;TZID=America/New_York:20241222T090000
DTSTAMP:20260420T080655
CREATED:20220202T193842Z
LAST-MODIFIED:20240415T170041Z
UID:3571-1734858000-1734858000@www.bethelhill.org
SUMMARY:Worship
DESCRIPTION:
URL:https://www.bethelhill.org/event/worship-31-2024-06-02/2024-12-22/
LOCATION:Sanctuary\, 2000 Bethel Rd\, LANSDALE\, PA\, 19446\, United States
END:VEVENT
BEGIN:VEVENT
DTSTART;TZID=America/New_York:20241222T080000
DTEND;TZID=America/New_York:20241222T170000
DTSTAMP:20260420T080655
CREATED:20220202T193956Z
LAST-MODIFIED:20220202T193956Z
UID:7136-1734854400-1734886800@www.bethelhill.org
SUMMARY:Worship
DESCRIPTION:
URL:https://www.bethelhill.org/event/worship-32-2024-06-02/2024-12-22/
LOCATION:Sanctuary\, 2000 Bethel Rd\, LANSDALE\, PA\, 19446\, United States
END:VEVENT
BEGIN:VEVENT
DTSTART;TZID=America/New_York:20241220T183000
DTEND;TZID=America/New_York:20241220T200000
DTSTAMP:20260420T080655
CREATED:20240109T152127Z
LAST-MODIFIED:20240109T152127Z
UID:4417-1734719400-1734724800@www.bethelhill.org
SUMMARY:Private Group Meeting
DESCRIPTION:
URL:https://www.bethelhill.org/event/private-group-meeting/2024-12-20/
LOCATION:SS Bldg.\, 2000 Bethel Rd\, LANSDALE\, PA\, 19446\, United States
END:VEVENT
END:VCALENDAR