BEGIN:VCALENDAR
VERSION:2.0
PRODID:-//Bethel Hill United Methodist Church - ECPv6.15.1.1//NONSGML v1.0//EN
CALSCALE:GREGORIAN
METHOD:PUBLISH
X-WR-CALNAME:Bethel Hill United Methodist Church
X-ORIGINAL-URL:https://www.bethelhill.org
X-WR-CALDESC:Events for Bethel Hill United Methodist Church
REFRESH-INTERVAL;VALUE=DURATION:PT1H
X-Robots-Tag:noindex
X-PUBLISHED-TTL:PT1H
BEGIN:VTIMEZONE
TZID:America/New_York
BEGIN:DAYLIGHT
TZOFFSETFROM:-0500
TZOFFSETTO:-0400
TZNAME:EDT
DTSTART:20250309T070000
END:DAYLIGHT
BEGIN:STANDARD
TZOFFSETFROM:-0400
TZOFFSETTO:-0500
TZNAME:EST
DTSTART:20251102T060000
END:STANDARD
END:VTIMEZONE
BEGIN:VEVENT
DTSTART;TZID=America/New_York:20250427T103000
DTEND;TZID=America/New_York:20250427T103000
DTSTAMP:20260421T040714
CREATED:20250115T142749Z
LAST-MODIFIED:20250115T142749Z
UID:5597-1745749800-1745749800@www.bethelhill.org
SUMMARY:Worship 1030
DESCRIPTION:
URL:https://www.bethelhill.org/event/worship-1030-3/
LOCATION:Sanctuary\, 2000 Bethel Rd\, LANSDALE\, PA\, 19446\, United States
END:VEVENT
BEGIN:VEVENT
DTSTART;TZID=America/New_York:20250428T133000
DTEND;TZID=America/New_York:20250428T143000
DTSTAMP:20260421T040714
CREATED:20250204T153747Z
LAST-MODIFIED:20250204T153747Z
UID:5710-1745847000-1745850600@www.bethelhill.org
SUMMARY:BUGLE  Mailing
DESCRIPTION:
URL:https://www.bethelhill.org/event/bugle-mailing-34/
LOCATION:SS Bldg.\, 2000 Bethel Rd\, LANSDALE\, PA\, 19446\, United States
END:VEVENT
BEGIN:VEVENT
DTSTART;TZID=America/New_York:20250430T190000
DTEND;TZID=America/New_York:20250430T200000
DTSTAMP:20260421T040714
CREATED:20250304T140423Z
LAST-MODIFIED:20250304T140423Z
UID:5799-1746039600-1746043200@www.bethelhill.org
SUMMARY:Church Council
DESCRIPTION:
URL:https://www.bethelhill.org/event/church-council-8/
LOCATION:Hayes Hall\, 2000 Bethel Rd\, LANSDALE\, PA\, 19446\, United States
END:VEVENT
BEGIN:VEVENT
DTSTART;TZID=America/New_York:20250501T190000
DTEND;TZID=America/New_York:20250501T200000
DTSTAMP:20260421T040714
CREATED:20250128T193501Z
LAST-MODIFIED:20250128T193501Z
UID:5659-1746126000-1746129600@www.bethelhill.org
SUMMARY:Choir Rehearsal
DESCRIPTION:
URL:https://www.bethelhill.org/event/choir-rehearsal-24/
LOCATION:SS Bldg.\, 2000 Bethel Rd\, LANSDALE\, PA\, 19446\, United States
END:VEVENT
BEGIN:VEVENT
DTSTART;TZID=America/New_York:20250502T180000
DTEND;TZID=America/New_York:20250502T200000
DTSTAMP:20260421T040714
CREATED:20250204T154146Z
LAST-MODIFIED:20250204T154146Z
UID:5712-1746208800-1746216000@www.bethelhill.org
SUMMARY:Private Group Meeting
DESCRIPTION:
URL:https://www.bethelhill.org/event/private-group-meeting-22/
LOCATION:SS Bldg.\, 2000 Bethel Rd\, LANSDALE\, PA\, 19446\, United States
END:VEVENT
BEGIN:VEVENT
DTSTART;TZID=America/New_York:20250504T080000
DTEND;TZID=America/New_York:20250504T170000
DTSTAMP:20260421T040714
CREATED:20220202T193956Z
LAST-MODIFIED:20220202T193956Z
UID:7155-1746345600-1746378000@www.bethelhill.org
SUMMARY:Worship
DESCRIPTION:
URL:https://www.bethelhill.org/event/worship-32-2024-06-02/2025-05-04/
LOCATION:Sanctuary\, 2000 Bethel Rd\, LANSDALE\, PA\, 19446\, United States
END:VEVENT
BEGIN:VEVENT
DTSTART;TZID=America/New_York:20250504T090000
DTEND;TZID=America/New_York:20250504T100000
DTSTAMP:20260421T040714
CREATED:20250128T192456Z
LAST-MODIFIED:20250128T192456Z
UID:5637-1746349200-1746352800@www.bethelhill.org
SUMMARY:Worship9
DESCRIPTION:
URL:https://www.bethelhill.org/event/worship9-2/
LOCATION:Sanctuary\, 2000 Bethel Rd\, LANSDALE\, PA\, 19446\, United States
END:VEVENT
BEGIN:VEVENT
DTSTART;TZID=America/New_York:20250504T103000
DTEND;TZID=America/New_York:20250504T113000
DTSTAMP:20260421T040714
CREATED:20250128T192543Z
LAST-MODIFIED:20250128T192543Z
UID:5639-1746354600-1746358200@www.bethelhill.org
SUMMARY:Worship1030
DESCRIPTION:
URL:https://www.bethelhill.org/event/worship1030/
LOCATION:Sanctuary\, 2000 Bethel Rd\, LANSDALE\, PA\, 19446\, United States
END:VEVENT
BEGIN:VEVENT
DTSTART;TZID=America/New_York:20250505T190000
DTEND;TZID=America/New_York:20250505T200000
DTSTAMP:20260421T040714
CREATED:20250128T193212Z
LAST-MODIFIED:20250128T193212Z
UID:5653-1746471600-1746475200@www.bethelhill.org
SUMMARY:Private Group Meeting – TM
DESCRIPTION:
URL:https://www.bethelhill.org/event/private-group-meeting-tm-5/
LOCATION:SS Bldg.\, 2000 Bethel Rd\, LANSDALE\, PA\, 19446\, United States
END:VEVENT
BEGIN:VEVENT
DTSTART;TZID=America/New_York:20250506T190000
DTEND;TZID=America/New_York:20250506T200000
DTSTAMP:20260421T040714
CREATED:20250515T183347Z
LAST-MODIFIED:20250515T183347Z
UID:6236-1746558000-1746561600@www.bethelhill.org
SUMMARY:Private Group Meeting
DESCRIPTION:
URL:https://www.bethelhill.org/event/private-group-meeting-44/2025-05-06/
LOCATION:SS Bldg.\, 2000 Bethel Rd\, LANSDALE\, PA\, 19446\, United States
END:VEVENT
BEGIN:VEVENT
DTSTART;TZID=America/New_York:20250508T190000
DTEND;TZID=America/New_York:20250508T200000
DTSTAMP:20260421T040714
CREATED:20250128T193539Z
LAST-MODIFIED:20250128T193539Z
UID:5661-1746730800-1746734400@www.bethelhill.org
SUMMARY:Choir Rehearsal
DESCRIPTION:
URL:https://www.bethelhill.org/event/choir-rehearsal-25/
LOCATION:SS Bldg.\, 2000 Bethel Rd\, LANSDALE\, PA\, 19446\, United States
END:VEVENT
BEGIN:VEVENT
DTSTART;TZID=America/New_York:20250509T180000
DTEND;TZID=America/New_York:20250509T200000
DTSTAMP:20260421T040714
CREATED:20250204T154226Z
LAST-MODIFIED:20250204T154226Z
UID:5714-1746813600-1746820800@www.bethelhill.org
SUMMARY:Private Group Meeting
DESCRIPTION:
URL:https://www.bethelhill.org/event/private-group-meeting-23/
LOCATION:SS Bldg.\, 2000 Bethel Rd\, LANSDALE\, PA\, 19446\, United States
END:VEVENT
BEGIN:VEVENT
DTSTART;TZID=America/New_York:20250510T090000
DTEND;TZID=America/New_York:20250510T100000
DTSTAMP:20260421T040714
CREATED:20250128T193907Z
LAST-MODIFIED:20250128T193907Z
UID:5669-1746867600-1746871200@www.bethelhill.org
SUMMARY:Women's Breakfast
DESCRIPTION:
URL:https://www.bethelhill.org/event/womens-breakfast-11/
LOCATION:Hayes Hall\, 2000 Bethel Rd\, LANSDALE\, PA\, 19446\, United States
END:VEVENT
BEGIN:VEVENT
DTSTART;TZID=America/New_York:20250511T080000
DTEND;TZID=America/New_York:20250511T170000
DTSTAMP:20260421T040714
CREATED:20220202T193956Z
LAST-MODIFIED:20220202T193956Z
UID:7156-1746950400-1746982800@www.bethelhill.org
SUMMARY:Worship
DESCRIPTION:
URL:https://www.bethelhill.org/event/worship-32-2024-06-02/2025-05-11/
LOCATION:Sanctuary\, 2000 Bethel Rd\, LANSDALE\, PA\, 19446\, United States
END:VEVENT
BEGIN:VEVENT
DTSTART;TZID=America/New_York:20250511T090000
DTEND;TZID=America/New_York:20250511T100000
DTSTAMP:20260421T040714
CREATED:20250128T192632Z
LAST-MODIFIED:20250128T192632Z
UID:5641-1746954000-1746957600@www.bethelhill.org
SUMMARY:Worship900
DESCRIPTION:
URL:https://www.bethelhill.org/event/worship900/
LOCATION:Sanctuary\, 2000 Bethel Rd\, LANSDALE\, PA\, 19446\, United States
END:VEVENT
BEGIN:VEVENT
DTSTART;TZID=America/New_York:20250511T103000
DTEND;TZID=America/New_York:20250511T113000
DTSTAMP:20260421T040714
CREATED:20250128T192716Z
LAST-MODIFIED:20250128T192716Z
UID:5643-1746959400-1746963000@www.bethelhill.org
SUMMARY:Worship1030
DESCRIPTION:
URL:https://www.bethelhill.org/event/worship1030-2/
LOCATION:Sanctuary\, 2000 Bethel Rd\, LANSDALE\, PA\, 19446\, United States
END:VEVENT
BEGIN:VEVENT
DTSTART;TZID=America/New_York:20250512T190000
DTEND;TZID=America/New_York:20250512T200000
DTSTAMP:20260421T040714
CREATED:20250128T193359Z
LAST-MODIFIED:20250128T193359Z
UID:5657-1747076400-1747080000@www.bethelhill.org
SUMMARY:Trustees Meeting
DESCRIPTION:
URL:https://www.bethelhill.org/event/trustees-meeting-22/
LOCATION:SS Bldg.\, 2000 Bethel Rd\, LANSDALE\, PA\, 19446\, United States
END:VEVENT
BEGIN:VEVENT
DTSTART;TZID=America/New_York:20250513T190000
DTEND;TZID=America/New_York:20250513T200000
DTSTAMP:20260421T040714
CREATED:20250515T183347Z
LAST-MODIFIED:20250515T183347Z
UID:6237-1747162800-1747166400@www.bethelhill.org
SUMMARY:Private Group Meeting
DESCRIPTION:
URL:https://www.bethelhill.org/event/private-group-meeting-44/2025-05-13/
LOCATION:SS Bldg.\, 2000 Bethel Rd\, LANSDALE\, PA\, 19446\, United States
END:VEVENT
BEGIN:VEVENT
DTSTART;TZID=America/New_York:20250514T190000
DTEND;TZID=America/New_York:20250514T200000
DTSTAMP:20260421T040714
CREATED:20250128T194234Z
LAST-MODIFIED:20250128T194234Z
UID:5676-1747249200-1747252800@www.bethelhill.org
SUMMARY:Missions Team Meeting
DESCRIPTION:
URL:https://www.bethelhill.org/event/missions-team-meeting-5/
LOCATION:SS Bldg.\, 2000 Bethel Rd\, LANSDALE\, PA\, 19446\, United States
END:VEVENT
BEGIN:VEVENT
DTSTART;TZID=America/New_York:20250515T190000
DTEND;TZID=America/New_York:20250515T200000
DTSTAMP:20260421T040714
CREATED:20250128T193635Z
LAST-MODIFIED:20250128T193635Z
UID:5663-1747335600-1747339200@www.bethelhill.org
SUMMARY:Chimes Rehearsal
DESCRIPTION:
URL:https://www.bethelhill.org/event/chimes-rehearsal-10/
LOCATION:SS Bldg.\, 2000 Bethel Rd\, LANSDALE\, PA\, 19446\, United States
END:VEVENT
BEGIN:VEVENT
DTSTART;TZID=America/New_York:20250516T180000
DTEND;TZID=America/New_York:20250516T200000
DTSTAMP:20260421T040714
CREATED:20250204T154306Z
LAST-MODIFIED:20250204T154306Z
UID:5716-1747418400-1747425600@www.bethelhill.org
SUMMARY:Private Group Meeting
DESCRIPTION:
URL:https://www.bethelhill.org/event/private-group-meeting-24/
LOCATION:SS Bldg.\, 2000 Bethel Rd\, LANSDALE\, PA\, 19446\, United States
END:VEVENT
BEGIN:VEVENT
DTSTART;TZID=America/New_York:20250517T090000
DTEND;TZID=America/New_York:20250517T150000
DTSTAMP:20260421T040714
CREATED:20250304T141330Z
LAST-MODIFIED:20250304T141330Z
UID:5801-1747472400-1747494000@www.bethelhill.org
SUMMARY:CROP
DESCRIPTION:
URL:https://www.bethelhill.org/event/crop-3/
LOCATION:Hayes Hall\, 2000 Bethel Rd\, LANSDALE\, PA\, 19446\, United States
END:VEVENT
BEGIN:VEVENT
DTSTART;TZID=America/New_York:20250518T080000
DTEND;TZID=America/New_York:20250518T170000
DTSTAMP:20260421T040714
CREATED:20220202T193956Z
LAST-MODIFIED:20220202T193956Z
UID:7157-1747555200-1747587600@www.bethelhill.org
SUMMARY:Worship
DESCRIPTION:
URL:https://www.bethelhill.org/event/worship-32-2024-06-02/2025-05-18/
LOCATION:Sanctuary\, 2000 Bethel Rd\, LANSDALE\, PA\, 19446\, United States
END:VEVENT
BEGIN:VEVENT
DTSTART;TZID=America/New_York:20250518T090000
DTEND;TZID=America/New_York:20250518T100000
DTSTAMP:20260421T040714
CREATED:20250128T192756Z
LAST-MODIFIED:20250128T192756Z
UID:5645-1747558800-1747562400@www.bethelhill.org
SUMMARY:Worship900
DESCRIPTION:
URL:https://www.bethelhill.org/event/worship900-2/
LOCATION:Sanctuary\, 2000 Bethel Rd\, LANSDALE\, PA\, 19446\, United States
END:VEVENT
BEGIN:VEVENT
DTSTART;TZID=America/New_York:20250518T103000
DTEND;TZID=America/New_York:20250518T113000
DTSTAMP:20260421T040714
CREATED:20250128T192909Z
LAST-MODIFIED:20250128T192909Z
UID:5647-1747564200-1747567800@www.bethelhill.org
SUMMARY:Worship1030
DESCRIPTION:
URL:https://www.bethelhill.org/event/worship1030-3/
LOCATION:Sanctuary\, 2000 Bethel Rd\, LANSDALE\, PA\, 19446\, United States
END:VEVENT
BEGIN:VEVENT
DTSTART;TZID=America/New_York:20250519T190000
DTEND;TZID=America/New_York:20250519T200000
DTSTAMP:20260421T040714
CREATED:20250128T193259Z
LAST-MODIFIED:20250128T193259Z
UID:5655-1747681200-1747684800@www.bethelhill.org
SUMMARY:Private Group Meeting – TM
DESCRIPTION:
URL:https://www.bethelhill.org/event/private-group-meeting-tm-6/
LOCATION:SS Bldg.\, 2000 Bethel Rd\, LANSDALE\, PA\, 19446\, United States
END:VEVENT
BEGIN:VEVENT
DTSTART;TZID=America/New_York:20250520T190000
DTEND;TZID=America/New_York:20250520T200000
DTSTAMP:20260421T040714
CREATED:20250515T183347Z
LAST-MODIFIED:20250515T183347Z
UID:6238-1747767600-1747771200@www.bethelhill.org
SUMMARY:Private Group Meeting
DESCRIPTION:
URL:https://www.bethelhill.org/event/private-group-meeting-44/2025-05-20/
LOCATION:SS Bldg.\, 2000 Bethel Rd\, LANSDALE\, PA\, 19446\, United States
END:VEVENT
BEGIN:VEVENT
DTSTART;TZID=America/New_York:20250521T123000
DTEND;TZID=America/New_York:20250521T133000
DTSTAMP:20260421T040714
CREATED:20250128T194337Z
LAST-MODIFIED:20250128T194337Z
UID:5678-1747830600-1747834200@www.bethelhill.org
SUMMARY:Lunch Bunch
DESCRIPTION:
URL:https://www.bethelhill.org/event/lunch-bunch-40/
LOCATION:Hayes Hall\, 2000 Bethel Rd\, LANSDALE\, PA\, 19446\, United States
END:VEVENT
BEGIN:VEVENT
DTSTART;TZID=America/New_York:20250523T180000
DTEND;TZID=America/New_York:20250523T200000
DTSTAMP:20260421T040714
CREATED:20250204T154350Z
LAST-MODIFIED:20250204T154350Z
UID:5718-1748023200-1748030400@www.bethelhill.org
SUMMARY:Private Group Meeting
DESCRIPTION:
URL:https://www.bethelhill.org/event/private-group-meeting-25/
LOCATION:SS Bldg.\, 2000 Bethel Rd\, LANSDALE\, PA\, 19446\, United States
END:VEVENT
BEGIN:VEVENT
DTSTART;TZID=America/New_York:20250525T080000
DTEND;TZID=America/New_York:20250525T170000
DTSTAMP:20260421T040714
CREATED:20220202T193956Z
LAST-MODIFIED:20220202T193956Z
UID:7158-1748160000-1748192400@www.bethelhill.org
SUMMARY:Worship
DESCRIPTION:
URL:https://www.bethelhill.org/event/worship-32-2024-06-02/2025-05-25/
LOCATION:Sanctuary\, 2000 Bethel Rd\, LANSDALE\, PA\, 19446\, United States
END:VEVENT
END:VCALENDAR