BEGIN:VCALENDAR
VERSION:2.0
PRODID:-//Bethel Hill United Methodist Church - ECPv6.15.1.1//NONSGML v1.0//EN
CALSCALE:GREGORIAN
METHOD:PUBLISH
X-WR-CALNAME:Bethel Hill United Methodist Church
X-ORIGINAL-URL:https://www.bethelhill.org
X-WR-CALDESC:Events for Bethel Hill United Methodist Church
REFRESH-INTERVAL;VALUE=DURATION:PT1H
X-Robots-Tag:noindex
X-PUBLISHED-TTL:PT1H
BEGIN:VTIMEZONE
TZID:America/New_York
BEGIN:DAYLIGHT
TZOFFSETFROM:-0500
TZOFFSETTO:-0400
TZNAME:EDT
DTSTART:20250309T070000
END:DAYLIGHT
BEGIN:STANDARD
TZOFFSETFROM:-0400
TZOFFSETTO:-0500
TZNAME:EST
DTSTART:20251102T060000
END:STANDARD
END:VTIMEZONE
BEGIN:VEVENT
DTSTART;TZID=America/New_York:20251104T070000
DTEND;TZID=America/New_York:20251104T200000
DTSTAMP:20260420T122625
CREATED:20250522T173137Z
LAST-MODIFIED:20250522T173137Z
UID:6286-1762239600-1762286400@www.bethelhill.org
SUMMARY:General Election
DESCRIPTION:
URL:https://www.bethelhill.org/event/general-election-2/
LOCATION:Hayes Hall\, 2000 Bethel Rd\, LANSDALE\, PA\, 19446\, United States
END:VEVENT
BEGIN:VEVENT
DTSTART;TZID=America/New_York:20251104T190000
DTEND;TZID=America/New_York:20251104T200000
DTSTAMP:20260420T122625
CREATED:20250515T183347Z
LAST-MODIFIED:20250515T183347Z
UID:6263-1762282800-1762286400@www.bethelhill.org
SUMMARY:Private Group Meeting
DESCRIPTION:
URL:https://www.bethelhill.org/event/private-group-meeting-44/2025-11-04/
LOCATION:SS Bldg.\, 2000 Bethel Rd\, LANSDALE\, PA\, 19446\, United States
END:VEVENT
BEGIN:VEVENT
DTSTART;TZID=America/New_York:20251105T190000
DTEND;TZID=America/New_York:20251105T200000
DTSTAMP:20260420T122625
CREATED:20250522T173300Z
LAST-MODIFIED:20250522T173300Z
UID:6288-1762369200-1762372800@www.bethelhill.org
SUMMARY:Worship Team meeting
DESCRIPTION:
URL:https://www.bethelhill.org/event/worship-team-meeting-15/
LOCATION:SS Bldg.\, 2000 Bethel Rd\, LANSDALE\, PA\, 19446\, United States
END:VEVENT
BEGIN:VEVENT
DTSTART;TZID=America/New_York:20251106T190000
DTEND;TZID=America/New_York:20251106T200000
DTSTAMP:20260420T122625
CREATED:20250827T134223Z
LAST-MODIFIED:20250827T134223Z
UID:6394-1762455600-1762459200@www.bethelhill.org
SUMMARY:Choir Rehearsal
DESCRIPTION:
URL:https://www.bethelhill.org/event/choir-rehearsal-33/
LOCATION:SS Bldg.\, 2000 Bethel Rd\, LANSDALE\, PA\, 19446\, United States
END:VEVENT
BEGIN:VEVENT
DTSTART;TZID=America/New_York:20251107T180000
DTEND;TZID=America/New_York:20251107T200000
DTSTAMP:20260420T122625
CREATED:20250515T180755Z
LAST-MODIFIED:20250515T180755Z
UID:6195-1762538400-1762545600@www.bethelhill.org
SUMMARY:Private Group Meeting
DESCRIPTION:
URL:https://www.bethelhill.org/event/private-group-meeting-43/2025-11-07/
LOCATION:Sanctuary\, 2000 Bethel Rd\, LANSDALE\, PA\, 19446\, United States
END:VEVENT
BEGIN:VEVENT
DTSTART;TZID=America/New_York:20251108T090000
DTEND;TZID=America/New_York:20251108T100000
DTSTAMP:20260420T122625
CREATED:20250515T182510Z
LAST-MODIFIED:20250515T182510Z
UID:6221-1762592400-1762596000@www.bethelhill.org
SUMMARY:Women's Breakfast
DESCRIPTION:
URL:https://www.bethelhill.org/event/womens-breakfast-16/2025-11-08/
LOCATION:Hayes Hall\, 2000 Bethel Rd\, LANSDALE\, PA\, 19446\, United States
END:VEVENT
BEGIN:VEVENT
DTSTART;TZID=America/New_York:20251109T080000
DTEND;TZID=America/New_York:20251109T170000
DTSTAMP:20260420T122625
CREATED:20220202T193956Z
LAST-MODIFIED:20220202T193956Z
UID:7182-1762675200-1762707600@www.bethelhill.org
SUMMARY:Worship
DESCRIPTION:
URL:https://www.bethelhill.org/event/worship-32-2024-06-02/2025-11-09/
LOCATION:Sanctuary\, 2000 Bethel Rd\, LANSDALE\, PA\, 19446\, United States
END:VEVENT
BEGIN:VEVENT
DTSTART;TZID=America/New_York:20251109T090000
DTEND;TZID=America/New_York:20251109T100000
DTSTAMP:20260420T122625
CREATED:20250411T165758Z
LAST-MODIFIED:20250411T165758Z
UID:5985-1762678800-1762682400@www.bethelhill.org
SUMMARY:Worship900
DESCRIPTION:
URL:https://www.bethelhill.org/event/worship900-19/2025-11-09/
LOCATION:Sanctuary\, 2000 Bethel Rd\, LANSDALE\, PA\, 19446\, United States
END:VEVENT
BEGIN:VEVENT
DTSTART;TZID=America/New_York:20251109T090000
DTEND;TZID=America/New_York:20251109T120000
DTSTAMP:20260420T122625
CREATED:20250819T133728Z
LAST-MODIFIED:20250819T133728Z
UID:6379-1762678800-1762689600@www.bethelhill.org
SUMMARY:Veterans Display
DESCRIPTION:
URL:https://www.bethelhill.org/event/veterans-display-3/
LOCATION:Sanctuary\, 2000 Bethel Rd\, LANSDALE\, PA\, 19446\, United States
END:VEVENT
BEGIN:VEVENT
DTSTART;TZID=America/New_York:20251109T103000
DTEND;TZID=America/New_York:20251109T113000
DTSTAMP:20260420T122625
CREATED:20250411T170030Z
LAST-MODIFIED:20250411T170030Z
UID:5999-1762684200-1762687800@www.bethelhill.org
SUMMARY:Worship1030
DESCRIPTION:
URL:https://www.bethelhill.org/event/worship1030-8/2025-11-09/
LOCATION:Sanctuary\, 2000 Bethel Rd\, LANSDALE\, PA\, 19446\, United States
END:VEVENT
BEGIN:VEVENT
DTSTART;TZID=America/New_York:20251110T130000
DTEND;TZID=America/New_York:20251110T140000
DTSTAMP:20260420T122625
CREATED:20250618T124729Z
LAST-MODIFIED:20250618T124729Z
UID:6335-1762779600-1762783200@www.bethelhill.org
SUMMARY:MissionLink
DESCRIPTION:
URL:https://www.bethelhill.org/event/missionlink-3/
LOCATION:Hayes Hall\, 2000 Bethel Rd\, LANSDALE\, PA\, 19446\, United States
END:VEVENT
BEGIN:VEVENT
DTSTART;TZID=America/New_York:20251110T190000
DTEND;TZID=America/New_York:20251110T200000
DTSTAMP:20260420T122625
CREATED:20250522T173418Z
LAST-MODIFIED:20250522T173418Z
UID:6290-1762801200-1762804800@www.bethelhill.org
SUMMARY:Trustees Meeting
DESCRIPTION:
URL:https://www.bethelhill.org/event/trustees-meeting-25/
LOCATION:SS Bldg.\, 2000 Bethel Rd\, LANSDALE\, PA\, 19446\, United States
END:VEVENT
BEGIN:VEVENT
DTSTART;TZID=America/New_York:20251111T190000
DTEND;TZID=America/New_York:20251111T200000
DTSTAMP:20260420T122625
CREATED:20250515T183347Z
LAST-MODIFIED:20250515T183347Z
UID:6264-1762887600-1762891200@www.bethelhill.org
SUMMARY:Private Group Meeting
DESCRIPTION:
URL:https://www.bethelhill.org/event/private-group-meeting-44/2025-11-11/
LOCATION:SS Bldg.\, 2000 Bethel Rd\, LANSDALE\, PA\, 19446\, United States
END:VEVENT
BEGIN:VEVENT
DTSTART;TZID=America/New_York:20251112T120000
DTEND;TZID=America/New_York:20251112T130000
DTSTAMP:20260420T122625
CREATED:20251110T133016Z
LAST-MODIFIED:20251110T133016Z
UID:6523-1762948800-1762952400@www.bethelhill.org
SUMMARY:SPAM Meeting
DESCRIPTION:
URL:https://www.bethelhill.org/event/spam-meeting/
LOCATION:Hayes Hall\, 2000 Bethel Rd\, LANSDALE\, PA\, 19446\, United States
END:VEVENT
BEGIN:VEVENT
DTSTART;TZID=America/New_York:20251112T190000
DTEND;TZID=America/New_York:20251112T200000
DTSTAMP:20260420T122626
CREATED:20250522T173539Z
LAST-MODIFIED:20250522T173539Z
UID:6292-1762974000-1762977600@www.bethelhill.org
SUMMARY:Missions Team meeting
DESCRIPTION:
URL:https://www.bethelhill.org/event/missions-team-meeting-7/
LOCATION:SS Bldg.\, 2000 Bethel Rd\, LANSDALE\, PA\, 19446\, United States
END:VEVENT
BEGIN:VEVENT
DTSTART;TZID=America/New_York:20251113T190000
DTEND;TZID=America/New_York:20251113T200000
DTSTAMP:20260420T122626
CREATED:20250827T134346Z
LAST-MODIFIED:20250827T134346Z
UID:6396-1763060400-1763064000@www.bethelhill.org
SUMMARY:Choir Rehearsal
DESCRIPTION:
URL:https://www.bethelhill.org/event/choir-rehearsal-34/
LOCATION:SS Bldg.\, 2000 Bethel Rd\, LANSDALE\, PA\, 19446\, United States
END:VEVENT
BEGIN:VEVENT
DTSTART;TZID=America/New_York:20251114T180000
DTEND;TZID=America/New_York:20251114T200000
DTSTAMP:20260420T122626
CREATED:20250515T180755Z
LAST-MODIFIED:20250515T180755Z
UID:6196-1763143200-1763150400@www.bethelhill.org
SUMMARY:Private Group Meeting
DESCRIPTION:
URL:https://www.bethelhill.org/event/private-group-meeting-43/2025-11-14/
LOCATION:Sanctuary\, 2000 Bethel Rd\, LANSDALE\, PA\, 19446\, United States
END:VEVENT
BEGIN:VEVENT
DTSTART;TZID=America/New_York:20251115T090000
DTEND;TZID=America/New_York:20251115T170000
DTSTAMP:20260420T122626
CREATED:20250522T174825Z
LAST-MODIFIED:20250522T174825Z
UID:6299-1763197200-1763226000@www.bethelhill.org
SUMMARY:CROP
DESCRIPTION:
URL:https://www.bethelhill.org/event/crop-7/
LOCATION:Hayes Hall\, 2000 Bethel Rd\, LANSDALE\, PA\, 19446\, United States
END:VEVENT
BEGIN:VEVENT
DTSTART;TZID=America/New_York:20251116T080000
DTEND;TZID=America/New_York:20251116T170000
DTSTAMP:20260420T122626
CREATED:20220202T193956Z
LAST-MODIFIED:20220202T193956Z
UID:7183-1763280000-1763312400@www.bethelhill.org
SUMMARY:Worship
DESCRIPTION:
URL:https://www.bethelhill.org/event/worship-32-2024-06-02/2025-11-16/
LOCATION:Sanctuary\, 2000 Bethel Rd\, LANSDALE\, PA\, 19446\, United States
END:VEVENT
BEGIN:VEVENT
DTSTART;TZID=America/New_York:20251116T090000
DTEND;TZID=America/New_York:20251116T100000
DTSTAMP:20260420T122626
CREATED:20250411T165758Z
LAST-MODIFIED:20250411T165758Z
UID:5986-1763283600-1763287200@www.bethelhill.org
SUMMARY:Worship900
DESCRIPTION:
URL:https://www.bethelhill.org/event/worship900-19/2025-11-16/
LOCATION:Sanctuary\, 2000 Bethel Rd\, LANSDALE\, PA\, 19446\, United States
END:VEVENT
BEGIN:VEVENT
DTSTART;TZID=America/New_York:20251116T103000
DTEND;TZID=America/New_York:20251116T113000
DTSTAMP:20260420T122626
CREATED:20250411T170030Z
LAST-MODIFIED:20250411T170030Z
UID:6000-1763289000-1763292600@www.bethelhill.org
SUMMARY:Worship1030
DESCRIPTION:
URL:https://www.bethelhill.org/event/worship1030-8/2025-11-16/
LOCATION:Sanctuary\, 2000 Bethel Rd\, LANSDALE\, PA\, 19446\, United States
END:VEVENT
BEGIN:VEVENT
DTSTART;TZID=America/New_York:20251117T190000
DTEND;TZID=America/New_York:20251117T200000
DTSTAMP:20260420T122626
CREATED:20250522T172805Z
LAST-MODIFIED:20250522T172805Z
UID:6284-1763406000-1763409600@www.bethelhill.org
SUMMARY:Private Group Meeting – TM
DESCRIPTION:
URL:https://www.bethelhill.org/event/private-group-meeting-tm-18/
LOCATION:SS Bldg.\, 2000 Bethel Rd\, LANSDALE\, PA\, 19446\, United States
END:VEVENT
BEGIN:VEVENT
DTSTART;TZID=America/New_York:20251118T190000
DTEND;TZID=America/New_York:20251118T200000
DTSTAMP:20260420T122626
CREATED:20250515T183347Z
LAST-MODIFIED:20250515T183347Z
UID:6265-1763492400-1763496000@www.bethelhill.org
SUMMARY:Private Group Meeting
DESCRIPTION:
URL:https://www.bethelhill.org/event/private-group-meeting-44/2025-11-18/
LOCATION:SS Bldg.\, 2000 Bethel Rd\, LANSDALE\, PA\, 19446\, United States
END:VEVENT
BEGIN:VEVENT
DTSTART;TZID=America/New_York:20251119T113000
DTEND;TZID=America/New_York:20251119T123000
DTSTAMP:20260420T122626
CREATED:20250515T182659Z
LAST-MODIFIED:20250710T183535Z
UID:6225-1763551800-1763555400@www.bethelhill.org
SUMMARY:Lunch Bunch
DESCRIPTION:
URL:https://www.bethelhill.org/event/lunch-bunch-45/2025-11-19/
LOCATION:Hayes Hall\, 2000 Bethel Rd\, LANSDALE\, PA\, 19446\, United States
END:VEVENT
BEGIN:VEVENT
DTSTART;TZID=America/New_York:20251120T190000
DTEND;TZID=America/New_York:20251120T200000
DTSTAMP:20260420T122626
CREATED:20250827T134537Z
LAST-MODIFIED:20250827T134537Z
UID:6398-1763665200-1763668800@www.bethelhill.org
SUMMARY:Chimes Rehearsal
DESCRIPTION:
URL:https://www.bethelhill.org/event/chimes-rehearsal-15/
LOCATION:SS Bldg.\, 2000 Bethel Rd\, LANSDALE\, PA\, 19446\, United States
END:VEVENT
BEGIN:VEVENT
DTSTART;TZID=America/New_York:20251121T180000
DTEND;TZID=America/New_York:20251121T200000
DTSTAMP:20260420T122626
CREATED:20250515T180755Z
LAST-MODIFIED:20250515T180755Z
UID:6197-1763748000-1763755200@www.bethelhill.org
SUMMARY:Private Group Meeting
DESCRIPTION:
URL:https://www.bethelhill.org/event/private-group-meeting-43/2025-11-21/
LOCATION:Sanctuary\, 2000 Bethel Rd\, LANSDALE\, PA\, 19446\, United States
END:VEVENT
BEGIN:VEVENT
DTSTART;TZID=America/New_York:20251122T180000
DTEND;TZID=America/New_York:20251122T230000
DTSTAMP:20260420T122626
CREATED:20251110T133245Z
LAST-MODIFIED:20251110T133245Z
UID:6525-1763834400-1763852400@www.bethelhill.org
SUMMARY:Private party using parking lot
DESCRIPTION:
URL:https://www.bethelhill.org/event/private-party-using-parking-lot/
LOCATION:Church Parking Lot\, 2000 Bethel Rd\, Lansdale\, PA\, 19446\, United States
END:VEVENT
BEGIN:VEVENT
DTSTART;TZID=America/New_York:20251123T080000
DTEND;TZID=America/New_York:20251123T170000
DTSTAMP:20260420T122626
CREATED:20220202T193956Z
LAST-MODIFIED:20220202T193956Z
UID:7184-1763884800-1763917200@www.bethelhill.org
SUMMARY:Worship
DESCRIPTION:
URL:https://www.bethelhill.org/event/worship-32-2024-06-02/2025-11-23/
LOCATION:Sanctuary\, 2000 Bethel Rd\, LANSDALE\, PA\, 19446\, United States
END:VEVENT
BEGIN:VEVENT
DTSTART;TZID=America/New_York:20251123T090000
DTEND;TZID=America/New_York:20251123T100000
DTSTAMP:20260420T122626
CREATED:20250411T165758Z
LAST-MODIFIED:20250411T165758Z
UID:5987-1763888400-1763892000@www.bethelhill.org
SUMMARY:Worship900
DESCRIPTION:
URL:https://www.bethelhill.org/event/worship900-19/2025-11-23/
LOCATION:Sanctuary\, 2000 Bethel Rd\, LANSDALE\, PA\, 19446\, United States
END:VEVENT
BEGIN:VEVENT
DTSTART;TZID=America/New_York:20251123T103000
DTEND;TZID=America/New_York:20251123T113000
DTSTAMP:20260420T122626
CREATED:20250411T170030Z
LAST-MODIFIED:20250411T170030Z
UID:6001-1763893800-1763897400@www.bethelhill.org
SUMMARY:Worship1030
DESCRIPTION:
URL:https://www.bethelhill.org/event/worship1030-8/2025-11-23/
LOCATION:Sanctuary\, 2000 Bethel Rd\, LANSDALE\, PA\, 19446\, United States
END:VEVENT
END:VCALENDAR