BEGIN:VCALENDAR
VERSION:2.0
PRODID:-//Bethel Hill United Methodist Church - ECPv6.15.1.1//NONSGML v1.0//EN
CALSCALE:GREGORIAN
METHOD:PUBLISH
X-WR-CALNAME:Bethel Hill United Methodist Church
X-ORIGINAL-URL:https://www.bethelhill.org
X-WR-CALDESC:Events for Bethel Hill United Methodist Church
REFRESH-INTERVAL;VALUE=DURATION:PT1H
X-Robots-Tag:noindex
X-PUBLISHED-TTL:PT1H
BEGIN:VTIMEZONE
TZID:America/New_York
BEGIN:DAYLIGHT
TZOFFSETFROM:-0500
TZOFFSETTO:-0400
TZNAME:EDT
DTSTART:20250309T070000
END:DAYLIGHT
BEGIN:STANDARD
TZOFFSETFROM:-0400
TZOFFSETTO:-0500
TZNAME:EST
DTSTART:20251102T060000
END:STANDARD
END:VTIMEZONE
BEGIN:VEVENT
DTSTART;TZID=America/New_York:20250115T123000
DTEND;TZID=America/New_York:20250115T133000
DTSTAMP:20260420T080148
CREATED:20241210T164520Z
LAST-MODIFIED:20241210T164520Z
UID:5292-1736944200-1736947800@www.bethelhill.org
SUMMARY:Lunch Bunch
DESCRIPTION:
URL:https://www.bethelhill.org/event/lunch-bunch-36/
LOCATION:Hayes Hall\, 2000 Bethel Rd\, LANSDALE\, PA\, 19446\, United States
END:VEVENT
BEGIN:VEVENT
DTSTART;TZID=America/New_York:20250116T181500
DTEND;TZID=America/New_York:20250116T190000
DTSTAMP:20260420T080148
CREATED:20250106T181838Z
LAST-MODIFIED:20250106T181838Z
UID:5382-1737051300-1737054000@www.bethelhill.org
SUMMARY:Praise Band Rehearsal
DESCRIPTION:
URL:https://www.bethelhill.org/event/praise-band-rehearsal-5/
LOCATION:Sanctuary\, 2000 Bethel Rd\, LANSDALE\, PA\, 19446\, United States
END:VEVENT
BEGIN:VEVENT
DTSTART;TZID=America/New_York:20250116T190000
DTEND;TZID=America/New_York:20250116T200000
DTSTAMP:20260420T080148
CREATED:20241211T190153Z
LAST-MODIFIED:20241211T190153Z
UID:5349-1737054000-1737057600@www.bethelhill.org
SUMMARY:Choir Rehearsal
DESCRIPTION:
URL:https://www.bethelhill.org/event/choir-rehearsal-13/
LOCATION:SS Bldg.\, 2000 Bethel Rd\, LANSDALE\, PA\, 19446\, United States
END:VEVENT
BEGIN:VEVENT
DTSTART;TZID=America/New_York:20250117T183000
DTEND;TZID=America/New_York:20250117T200000
DTSTAMP:20260420T080148
CREATED:20241210T164028Z
LAST-MODIFIED:20241210T164028Z
UID:5284-1737138600-1737144000@www.bethelhill.org
SUMMARY:Private Group Meeting
DESCRIPTION:
URL:https://www.bethelhill.org/event/private-group-meeting-8/
LOCATION:SS Bldg.\, 2000 Bethel Rd\, LANSDALE\, PA\, 19446\, United States
END:VEVENT
BEGIN:VEVENT
DTSTART;TZID=America/New_York:20250118T080000
DTEND;TZID=America/New_York:20250118T170000
DTSTAMP:20260420T080148
CREATED:20250114T174642Z
LAST-MODIFIED:20250114T174642Z
UID:5403-1737187200-1737219600@www.bethelhill.org
SUMMARY:CROP Group
DESCRIPTION:
URL:https://www.bethelhill.org/event/crop-group/
LOCATION:Hayes Hall\, 2000 Bethel Rd\, LANSDALE\, PA\, 19446\, United States
END:VEVENT
BEGIN:VEVENT
DTSTART;TZID=America/New_York:20250119T080000
DTEND;TZID=America/New_York:20250119T170000
DTSTAMP:20260420T080148
CREATED:20220202T193956Z
LAST-MODIFIED:20220202T193956Z
UID:7140-1737273600-1737306000@www.bethelhill.org
SUMMARY:Worship
DESCRIPTION:
URL:https://www.bethelhill.org/event/worship-32-2024-06-02/2025-01-19/
LOCATION:Sanctuary\, 2000 Bethel Rd\, LANSDALE\, PA\, 19446\, United States
END:VEVENT
BEGIN:VEVENT
DTSTART;TZID=America/New_York:20250119T090000
DTEND;TZID=America/New_York:20250119T100000
DTSTAMP:20260420T080148
CREATED:20241210T161902Z
LAST-MODIFIED:20250114T174958Z
UID:5264-1737277200-1737280800@www.bethelhill.org
SUMMARY:Contemporary Worship
DESCRIPTION:
URL:https://www.bethelhill.org/event/worship-49/
LOCATION:Sanctuary\, 2000 Bethel Rd\, LANSDALE\, PA\, 19446\, United States
END:VEVENT
BEGIN:VEVENT
DTSTART;TZID=America/New_York:20250119T103000
DTEND;TZID=America/New_York:20250119T113000
DTSTAMP:20260420T080148
CREATED:20241210T161956Z
LAST-MODIFIED:20250114T175017Z
UID:5266-1737282600-1737286200@www.bethelhill.org
SUMMARY:Contemporary Worship
DESCRIPTION:
URL:https://www.bethelhill.org/event/worship-50/
LOCATION:Sanctuary\, 2000 Bethel Rd\, LANSDALE\, PA\, 19446\, United States
END:VEVENT
BEGIN:VEVENT
DTSTART;TZID=America/New_York:20250120T190000
DTEND;TZID=America/New_York:20250120T190000
DTSTAMP:20260420T080148
CREATED:20241210T163140Z
LAST-MODIFIED:20241211T163824Z
UID:5274-1737399600-1737399600@www.bethelhill.org
SUMMARY:Private Group Meeting - TM
DESCRIPTION:
URL:https://www.bethelhill.org/event/private-group-meeting-3/
LOCATION:SS Bldg.\, 2000 Bethel Rd\, LANSDALE\, PA\, 19446\, United States
END:VEVENT
BEGIN:VEVENT
DTSTART;TZID=America/New_York:20250120T190000
DTEND;TZID=America/New_York:20250120T200000
DTSTAMP:20260420T080148
CREATED:20250113T134203Z
LAST-MODIFIED:20250113T134203Z
UID:5398-1737399600-1737403200@www.bethelhill.org
SUMMARY:SPRC Team meeting
DESCRIPTION:
URL:https://www.bethelhill.org/event/sprc-team-meeting-3/
LOCATION:Hayes Hall\, 2000 Bethel Rd\, LANSDALE\, PA\, 19446\, United States
END:VEVENT
BEGIN:VEVENT
DTSTART;TZID=America/New_York:20250123T190000
DTEND;TZID=America/New_York:20250123T200000
DTSTAMP:20260420T080148
CREATED:20241211T190244Z
LAST-MODIFIED:20241211T190503Z
UID:5351-1737658800-1737662400@www.bethelhill.org
SUMMARY:Chimes Rehearsal
DESCRIPTION:
URL:https://www.bethelhill.org/event/choir-rehearsal-14/
LOCATION:SS Bldg.\, 2000 Bethel Rd\, LANSDALE\, PA\, 19446\, United States
END:VEVENT
BEGIN:VEVENT
DTSTART;TZID=America/New_York:20250124T183000
DTEND;TZID=America/New_York:20250124T200000
DTSTAMP:20260420T080148
CREATED:20241210T164116Z
LAST-MODIFIED:20241210T164116Z
UID:5286-1737743400-1737748800@www.bethelhill.org
SUMMARY:Private Group Meeting
DESCRIPTION:
URL:https://www.bethelhill.org/event/private-group-meeting-9/
LOCATION:SS Bldg.\, 2000 Bethel Rd\, LANSDALE\, PA\, 19446\, United States
END:VEVENT
BEGIN:VEVENT
DTSTART;TZID=America/New_York:20250125T080000
DTEND;TZID=America/New_York:20250125T090000
DTSTAMP:20260420T080148
CREATED:20241210T164712Z
LAST-MODIFIED:20241210T164712Z
UID:5296-1737792000-1737795600@www.bethelhill.org
SUMMARY:Men's Breakfast
DESCRIPTION:
URL:https://www.bethelhill.org/event/mens-breakfast-3/
LOCATION:Hayes Hall\, 2000 Bethel Rd\, LANSDALE\, PA\, 19446\, United States
END:VEVENT
BEGIN:VEVENT
DTSTART;TZID=America/New_York:20250126T080000
DTEND;TZID=America/New_York:20250126T170000
DTSTAMP:20260420T080148
CREATED:20220202T193956Z
LAST-MODIFIED:20220202T193956Z
UID:7141-1737878400-1737910800@www.bethelhill.org
SUMMARY:Worship
DESCRIPTION:
URL:https://www.bethelhill.org/event/worship-32-2024-06-02/2025-01-26/
LOCATION:Sanctuary\, 2000 Bethel Rd\, LANSDALE\, PA\, 19446\, United States
END:VEVENT
BEGIN:VEVENT
DTSTART;TZID=America/New_York:20250126T090000
DTEND;TZID=America/New_York:20250126T100000
DTSTAMP:20260420T080148
CREATED:20241210T162043Z
LAST-MODIFIED:20241210T175938Z
UID:5268-1737882000-1737885600@www.bethelhill.org
SUMMARY:Worship
DESCRIPTION:
URL:https://www.bethelhill.org/event/worship-51/
LOCATION:Sanctuary\, 2000 Bethel Rd\, LANSDALE\, PA\, 19446\, United States
END:VEVENT
BEGIN:VEVENT
DTSTART;TZID=America/New_York:20250126T103000
DTEND;TZID=America/New_York:20250126T113000
DTSTAMP:20260420T080148
CREATED:20241210T162124Z
LAST-MODIFIED:20241210T162124Z
UID:5270-1737887400-1737891000@www.bethelhill.org
SUMMARY:Worship
DESCRIPTION:
URL:https://www.bethelhill.org/event/worship-52/
LOCATION:Sanctuary\, 2000 Bethel Rd\, LANSDALE\, PA\, 19446\, United States
END:VEVENT
BEGIN:VEVENT
DTSTART;TZID=America/New_York:20250130T190000
DTEND;TZID=America/New_York:20250130T200000
DTSTAMP:20260420T080148
CREATED:20241211T190433Z
LAST-MODIFIED:20241211T190433Z
UID:5353-1738263600-1738267200@www.bethelhill.org
SUMMARY:Choir Rehearsal
DESCRIPTION:
URL:https://www.bethelhill.org/event/choir-rehearsal-15/
LOCATION:SS Bldg.\, 2000 Bethel Rd\, LANSDALE\, PA\, 19446\, United States
END:VEVENT
BEGIN:VEVENT
DTSTART;TZID=America/New_York:20250131T183000
DTEND;TZID=America/New_York:20250131T200000
DTSTAMP:20260420T080148
CREATED:20241210T164155Z
LAST-MODIFIED:20241210T164155Z
UID:5288-1738348200-1738353600@www.bethelhill.org
SUMMARY:Private Group Meeting
DESCRIPTION:
URL:https://www.bethelhill.org/event/private-group-meeting-10/
LOCATION:SS Bldg.\, 2000 Bethel Rd\, LANSDALE\, PA\, 19446\, United States
END:VEVENT
BEGIN:VEVENT
DTSTART;TZID=America/New_York:20250202T080000
DTEND;TZID=America/New_York:20250202T170000
DTSTAMP:20260420T080148
CREATED:20220202T193956Z
LAST-MODIFIED:20220202T193956Z
UID:7142-1738483200-1738515600@www.bethelhill.org
SUMMARY:Worship
DESCRIPTION:
URL:https://www.bethelhill.org/event/worship-32-2024-06-02/2025-02-02/
LOCATION:Sanctuary\, 2000 Bethel Rd\, LANSDALE\, PA\, 19446\, United States
END:VEVENT
BEGIN:VEVENT
DTSTART;TZID=America/New_York:20250202T090000
DTEND;TZID=America/New_York:20250202T100000
DTSTAMP:20260420T080148
CREATED:20241210T180044Z
LAST-MODIFIED:20241210T180044Z
UID:5298-1738486800-1738490400@www.bethelhill.org
SUMMARY:Worship
DESCRIPTION:
URL:https://www.bethelhill.org/event/worship-53/
LOCATION:Sanctuary\, 2000 Bethel Rd\, LANSDALE\, PA\, 19446\, United States
END:VEVENT
BEGIN:VEVENT
DTSTART;TZID=America/New_York:20250202T103000
DTEND;TZID=America/New_York:20250202T113000
DTSTAMP:20260420T080148
CREATED:20241210T180132Z
LAST-MODIFIED:20241210T180132Z
UID:5300-1738492200-1738495800@www.bethelhill.org
SUMMARY:Worship
DESCRIPTION:
URL:https://www.bethelhill.org/event/worship-54/
LOCATION:Sanctuary\, 2000 Bethel Rd\, LANSDALE\, PA\, 19446\, United States
END:VEVENT
BEGIN:VEVENT
DTSTART;TZID=America/New_York:20250203T190000
DTEND;TZID=America/New_York:20250203T200000
DTSTAMP:20260420T080148
CREATED:20241210T182422Z
LAST-MODIFIED:20241210T182422Z
UID:5334-1738609200-1738612800@www.bethelhill.org
SUMMARY:Evangelism Team meeting
DESCRIPTION:
URL:https://www.bethelhill.org/event/evangelism-team-meeting-3/
LOCATION:Hayes Hall\, 2000 Bethel Rd\, LANSDALE\, PA\, 19446\, United States
END:VEVENT
BEGIN:VEVENT
DTSTART;TZID=America/New_York:20250203T190000
DTEND;TZID=America/New_York:20250203T203000
DTSTAMP:20260420T080148
CREATED:20241210T163256Z
LAST-MODIFIED:20241211T163853Z
UID:5276-1738609200-1738614600@www.bethelhill.org
SUMMARY:Private Group Meeting - TM
DESCRIPTION:
URL:https://www.bethelhill.org/event/private-group-meeting-4/
LOCATION:SS Bldg.\, 2000 Bethel Rd\, LANSDALE\, PA\, 19446\, United States
END:VEVENT
BEGIN:VEVENT
DTSTART;TZID=America/New_York:20250204T160000
DTEND;TZID=America/New_York:20250204T210000
DTSTAMP:20260420T080148
CREATED:20250106T182355Z
LAST-MODIFIED:20250106T182355Z
UID:5384-1738684800-1738702800@www.bethelhill.org
SUMMARY:Dine n Donate - Pour House / North Wales
DESCRIPTION:
URL:https://www.bethelhill.org/event/dine-n-donate-pour-house-north-wales/
LOCATION:PA
END:VEVENT
BEGIN:VEVENT
DTSTART;TZID=America/New_York:20250206T181500
DTEND;TZID=America/New_York:20250206T190000
DTSTAMP:20260420T080148
CREATED:20250114T175349Z
LAST-MODIFIED:20250114T175349Z
UID:5467-1738865700-1738868400@www.bethelhill.org
SUMMARY:Praise Team Rehearsal
DESCRIPTION:
URL:https://www.bethelhill.org/event/praise-team-rehearsal-26/
LOCATION:Sanctuary\, 2000 Bethel Rd\, LANSDALE\, PA\, 19446\, United States
END:VEVENT
BEGIN:VEVENT
DTSTART;TZID=America/New_York:20250206T190000
DTEND;TZID=America/New_York:20250206T200000
DTSTAMP:20260420T080148
CREATED:20241211T190756Z
LAST-MODIFIED:20241211T190756Z
UID:5356-1738868400-1738872000@www.bethelhill.org
SUMMARY:Choir Rehearsal
DESCRIPTION:
URL:https://www.bethelhill.org/event/choir-rehearsal-16/
LOCATION:SS Bldg.\, 2000 Bethel Rd\, LANSDALE\, PA\, 19446\, United States
END:VEVENT
BEGIN:VEVENT
DTSTART;TZID=America/New_York:20250207T183000
DTEND;TZID=America/New_York:20250207T200000
DTSTAMP:20260420T080148
CREATED:20241210T181403Z
LAST-MODIFIED:20241210T181403Z
UID:5316-1738953000-1738958400@www.bethelhill.org
SUMMARY:Private Group Meeting
DESCRIPTION:
URL:https://www.bethelhill.org/event/private-group-meeting-11/
LOCATION:Hayes Hall\, 2000 Bethel Rd\, LANSDALE\, PA\, 19446\, United States
END:VEVENT
BEGIN:VEVENT
DTSTART;TZID=America/New_York:20250208T090000
DTEND;TZID=America/New_York:20250208T100000
DTSTAMP:20260420T080148
CREATED:20241211T192254Z
LAST-MODIFIED:20241211T192254Z
UID:5364-1739005200-1739008800@www.bethelhill.org
SUMMARY:Women's Breakfast
DESCRIPTION:
URL:https://www.bethelhill.org/event/womens-breakfast-8/
LOCATION:Hayes Hall\, 2000 Bethel Rd\, LANSDALE\, PA\, 19446\, United States
END:VEVENT
BEGIN:VEVENT
DTSTART;TZID=America/New_York:20250208T110000
DTEND;TZID=America/New_York:20250208T140000
DTSTAMP:20260420T080148
CREATED:20250128T191520Z
LAST-MODIFIED:20250128T191618Z
UID:5632-1739012400-1739023200@www.bethelhill.org
SUMMARY:Private Party
DESCRIPTION:
URL:https://www.bethelhill.org/event/private-party/
LOCATION:Hayes Hall\, 2000 Bethel Rd\, LANSDALE\, PA\, 19446\, United States
END:VEVENT
BEGIN:VEVENT
DTSTART;TZID=America/New_York:20250209T080000
DTEND;TZID=America/New_York:20250209T170000
DTSTAMP:20260420T080148
CREATED:20220202T193956Z
LAST-MODIFIED:20220202T193956Z
UID:7143-1739088000-1739120400@www.bethelhill.org
SUMMARY:Worship
DESCRIPTION:
URL:https://www.bethelhill.org/event/worship-32-2024-06-02/2025-02-09/
LOCATION:Sanctuary\, 2000 Bethel Rd\, LANSDALE\, PA\, 19446\, United States
END:VEVENT
END:VCALENDAR