BEGIN:VCALENDAR
VERSION:2.0
PRODID:-//Bethel Hill United Methodist Church - ECPv6.15.1.1//NONSGML v1.0//EN
CALSCALE:GREGORIAN
METHOD:PUBLISH
X-WR-CALNAME:Bethel Hill United Methodist Church
X-ORIGINAL-URL:https://www.bethelhill.org
X-WR-CALDESC:Events for Bethel Hill United Methodist Church
REFRESH-INTERVAL;VALUE=DURATION:PT1H
X-Robots-Tag:noindex
X-PUBLISHED-TTL:PT1H
BEGIN:VTIMEZONE
TZID:America/New_York
BEGIN:DAYLIGHT
TZOFFSETFROM:-0500
TZOFFSETTO:-0400
TZNAME:EDT
DTSTART:20250309T070000
END:DAYLIGHT
BEGIN:STANDARD
TZOFFSETFROM:-0400
TZOFFSETTO:-0500
TZNAME:EST
DTSTART:20251102T060000
END:STANDARD
END:VTIMEZONE
BEGIN:VEVENT
DTSTART;TZID=America/New_York:20251103T190000
DTEND;TZID=America/New_York:20251103T200000
DTSTAMP:20260420T140235
CREATED:20250522T172652Z
LAST-MODIFIED:20250522T172652Z
UID:6282-1762196400-1762200000@www.bethelhill.org
SUMMARY:Private Group Meeting – TM
DESCRIPTION:
URL:https://www.bethelhill.org/event/private-group-meeting-tm-17/
LOCATION:SS Bldg.\, 2000 Bethel Rd\, LANSDALE\, PA\, 19446\, United States
END:VEVENT
BEGIN:VEVENT
DTSTART;TZID=America/New_York:20251102T103000
DTEND;TZID=America/New_York:20251102T113000
DTSTAMP:20260420T140235
CREATED:20250411T170030Z
LAST-MODIFIED:20250411T170030Z
UID:5998-1762079400-1762083000@www.bethelhill.org
SUMMARY:Worship1030
DESCRIPTION:
URL:https://www.bethelhill.org/event/worship1030-8/2025-11-02/
LOCATION:Sanctuary\, 2000 Bethel Rd\, LANSDALE\, PA\, 19446\, United States
END:VEVENT
BEGIN:VEVENT
DTSTART;TZID=America/New_York:20251102T090000
DTEND;TZID=America/New_York:20251102T100000
DTSTAMP:20260420T140235
CREATED:20250411T165758Z
LAST-MODIFIED:20250411T165758Z
UID:5984-1762074000-1762077600@www.bethelhill.org
SUMMARY:Worship900
DESCRIPTION:
URL:https://www.bethelhill.org/event/worship900-19/2025-11-02/
LOCATION:Sanctuary\, 2000 Bethel Rd\, LANSDALE\, PA\, 19446\, United States
END:VEVENT
BEGIN:VEVENT
DTSTART;TZID=America/New_York:20251102T080000
DTEND;TZID=America/New_York:20251102T170000
DTSTAMP:20260420T140235
CREATED:20220202T193956Z
LAST-MODIFIED:20220202T193956Z
UID:7181-1762070400-1762102800@www.bethelhill.org
SUMMARY:Worship
DESCRIPTION:
URL:https://www.bethelhill.org/event/worship-32-2024-06-02/2025-11-02/
LOCATION:Sanctuary\, 2000 Bethel Rd\, LANSDALE\, PA\, 19446\, United States
END:VEVENT
BEGIN:VEVENT
DTSTART;TZID=America/New_York:20251031T180000
DTEND;TZID=America/New_York:20251031T200000
DTSTAMP:20260420T140235
CREATED:20250515T180755Z
LAST-MODIFIED:20250515T180755Z
UID:6194-1761933600-1761940800@www.bethelhill.org
SUMMARY:Private Group Meeting
DESCRIPTION:
URL:https://www.bethelhill.org/event/private-group-meeting-43/2025-10-31/
LOCATION:Sanctuary\, 2000 Bethel Rd\, LANSDALE\, PA\, 19446\, United States
END:VEVENT
BEGIN:VEVENT
DTSTART;TZID=America/New_York:20251030T190000
DTEND;TZID=America/New_York:20251030T200000
DTSTAMP:20260420T140235
CREATED:20250827T133803Z
LAST-MODIFIED:20250827T133803Z
UID:6392-1761850800-1761854400@www.bethelhill.org
SUMMARY:Choir Rehearsal
DESCRIPTION:
URL:https://www.bethelhill.org/event/choir-rehearsal-32/
LOCATION:SS Bldg.\, 2000 Bethel Rd\, LANSDALE\, PA\, 19446\, United States
END:VEVENT
BEGIN:VEVENT
DTSTART;TZID=America/New_York:20251028T190000
DTEND;TZID=America/New_York:20251028T200000
DTSTAMP:20260420T140235
CREATED:20250515T183347Z
LAST-MODIFIED:20250515T183347Z
UID:6262-1761678000-1761681600@www.bethelhill.org
SUMMARY:Private Group Meeting
DESCRIPTION:
URL:https://www.bethelhill.org/event/private-group-meeting-44/2025-10-28/
LOCATION:SS Bldg.\, 2000 Bethel Rd\, LANSDALE\, PA\, 19446\, United States
END:VEVENT
BEGIN:VEVENT
DTSTART;TZID=America/New_York:20251026T160000
DTEND;TZID=America/New_York:20251026T170000
DTSTAMP:20260420T140235
CREATED:20250819T133629Z
LAST-MODIFIED:20250819T133629Z
UID:6377-1761494400-1761498000@www.bethelhill.org
SUMMARY:Trunk or Treat
DESCRIPTION:
URL:https://www.bethelhill.org/event/trunk-or-treat-4/
LOCATION:Church Parking Lot\, 2000 Bethel Rd\, Lansdale\, PA\, 19446\, United States
END:VEVENT
BEGIN:VEVENT
DTSTART;TZID=America/New_York:20251026T103000
DTEND;TZID=America/New_York:20251026T113000
DTSTAMP:20260420T140235
CREATED:20250411T170030Z
LAST-MODIFIED:20250411T170030Z
UID:5997-1761474600-1761478200@www.bethelhill.org
SUMMARY:Worship1030
DESCRIPTION:
URL:https://www.bethelhill.org/event/worship1030-8/2025-10-26/
LOCATION:Sanctuary\, 2000 Bethel Rd\, LANSDALE\, PA\, 19446\, United States
END:VEVENT
BEGIN:VEVENT
DTSTART;TZID=America/New_York:20251026T090000
DTEND;TZID=America/New_York:20251026T100000
DTSTAMP:20260420T140235
CREATED:20250411T165758Z
LAST-MODIFIED:20250411T165758Z
UID:5983-1761469200-1761472800@www.bethelhill.org
SUMMARY:Worship900
DESCRIPTION:
URL:https://www.bethelhill.org/event/worship900-19/2025-10-26/
LOCATION:Sanctuary\, 2000 Bethel Rd\, LANSDALE\, PA\, 19446\, United States
END:VEVENT
BEGIN:VEVENT
DTSTART;TZID=America/New_York:20251026T080000
DTEND;TZID=America/New_York:20251026T170000
DTSTAMP:20260420T140235
CREATED:20220202T193956Z
LAST-MODIFIED:20220202T193956Z
UID:7180-1761465600-1761498000@www.bethelhill.org
SUMMARY:Worship
DESCRIPTION:
URL:https://www.bethelhill.org/event/worship-32-2024-06-02/2025-10-26/
LOCATION:Sanctuary\, 2000 Bethel Rd\, LANSDALE\, PA\, 19446\, United States
END:VEVENT
BEGIN:VEVENT
DTSTART;TZID=America/New_York:20251025T080000
DTEND;TZID=America/New_York:20251025T090000
DTSTAMP:20260420T140235
CREATED:20250515T183105Z
LAST-MODIFIED:20250515T183105Z
UID:6232-1761379200-1761382800@www.bethelhill.org
SUMMARY:Men's Breakfast
DESCRIPTION:
URL:https://www.bethelhill.org/event/mens-breakfast-12/
LOCATION:Hayes Hall\, 2000 Bethel Rd\, LANSDALE\, PA\, 19446\, United States
END:VEVENT
BEGIN:VEVENT
DTSTART;TZID=America/New_York:20251024T180000
DTEND;TZID=America/New_York:20251024T200000
DTSTAMP:20260420T140235
CREATED:20250515T180755Z
LAST-MODIFIED:20250515T180755Z
UID:6193-1761328800-1761336000@www.bethelhill.org
SUMMARY:Private Group Meeting
DESCRIPTION:
URL:https://www.bethelhill.org/event/private-group-meeting-43/2025-10-24/
LOCATION:Sanctuary\, 2000 Bethel Rd\, LANSDALE\, PA\, 19446\, United States
END:VEVENT
BEGIN:VEVENT
DTSTART;TZID=America/New_York:20251023T190000
DTEND;TZID=America/New_York:20251023T200000
DTSTAMP:20260420T140235
CREATED:20250827T133638Z
LAST-MODIFIED:20250827T133638Z
UID:6390-1761246000-1761249600@www.bethelhill.org
SUMMARY:Chimes Rehearsal
DESCRIPTION:
URL:https://www.bethelhill.org/event/chimes-rehearsal-14/
LOCATION:SS Bldg.\, 2000 Bethel Rd\, LANSDALE\, PA\, 19446\, United States
END:VEVENT
BEGIN:VEVENT
DTSTART;TZID=America/New_York:20251021T190000
DTEND;TZID=America/New_York:20251021T200000
DTSTAMP:20260420T140235
CREATED:20250515T183347Z
LAST-MODIFIED:20250515T183347Z
UID:6261-1761073200-1761076800@www.bethelhill.org
SUMMARY:Private Group Meeting
DESCRIPTION:
URL:https://www.bethelhill.org/event/private-group-meeting-44/2025-10-21/
LOCATION:SS Bldg.\, 2000 Bethel Rd\, LANSDALE\, PA\, 19446\, United States
END:VEVENT
BEGIN:VEVENT
DTSTART;TZID=America/New_York:20251020T183000
DTEND;TZID=America/New_York:20251020T200000
DTSTAMP:20260420T140235
CREATED:20250515T181613Z
LAST-MODIFIED:20250515T181613Z
UID:6208-1760985000-1760990400@www.bethelhill.org
SUMMARY:Private Group Meeting - TM
DESCRIPTION:
URL:https://www.bethelhill.org/event/private-group-meeting-tm-16/
LOCATION:SS Bldg.\, 2000 Bethel Rd\, LANSDALE\, PA\, 19446\, United States
END:VEVENT
BEGIN:VEVENT
DTSTART;TZID=America/New_York:20251019T103000
DTEND;TZID=America/New_York:20251019T113000
DTSTAMP:20260420T140235
CREATED:20250411T170030Z
LAST-MODIFIED:20250819T131010Z
UID:5996-1760869800-1760873400@www.bethelhill.org
SUMMARY:Contemporary Worship1030
DESCRIPTION:
URL:https://www.bethelhill.org/event/worship1030-8/2025-10-19/
LOCATION:Sanctuary\, 2000 Bethel Rd\, LANSDALE\, PA\, 19446\, United States
END:VEVENT
BEGIN:VEVENT
DTSTART;TZID=America/New_York:20251019T090000
DTEND;TZID=America/New_York:20251019T100000
DTSTAMP:20260420T140235
CREATED:20250411T165758Z
LAST-MODIFIED:20250819T130922Z
UID:5982-1760864400-1760868000@www.bethelhill.org
SUMMARY:Contemporary Worship900
DESCRIPTION:
URL:https://www.bethelhill.org/event/worship900-19/2025-10-19/
LOCATION:Sanctuary\, 2000 Bethel Rd\, LANSDALE\, PA\, 19446\, United States
END:VEVENT
BEGIN:VEVENT
DTSTART;TZID=America/New_York:20251019T080000
DTEND;TZID=America/New_York:20251019T170000
DTSTAMP:20260420T140235
CREATED:20220202T193956Z
LAST-MODIFIED:20220202T193956Z
UID:7179-1760860800-1760893200@www.bethelhill.org
SUMMARY:Worship
DESCRIPTION:
URL:https://www.bethelhill.org/event/worship-32-2024-06-02/2025-10-19/
LOCATION:Sanctuary\, 2000 Bethel Rd\, LANSDALE\, PA\, 19446\, United States
END:VEVENT
BEGIN:VEVENT
DTSTART;TZID=America/New_York:20251018T080000
DTEND;TZID=America/New_York:20251018T170000
DTSTAMP:20260420T140235
CREATED:20250515T183213Z
LAST-MODIFIED:20250515T183213Z
UID:6234-1760774400-1760806800@www.bethelhill.org
SUMMARY:CROP Group
DESCRIPTION:
URL:https://www.bethelhill.org/event/crop-group-3/
LOCATION:Hayes Hall\, 2000 Bethel Rd\, LANSDALE\, PA\, 19446\, United States
END:VEVENT
BEGIN:VEVENT
DTSTART;TZID=America/New_York:20251017T180000
DTEND;TZID=America/New_York:20251017T200000
DTSTAMP:20260420T140235
CREATED:20250515T180755Z
LAST-MODIFIED:20250515T180755Z
UID:6192-1760724000-1760731200@www.bethelhill.org
SUMMARY:Private Group Meeting
DESCRIPTION:
URL:https://www.bethelhill.org/event/private-group-meeting-43/2025-10-17/
LOCATION:Sanctuary\, 2000 Bethel Rd\, LANSDALE\, PA\, 19446\, United States
END:VEVENT
BEGIN:VEVENT
DTSTART;TZID=America/New_York:20251016T190000
DTEND;TZID=America/New_York:20251016T200000
DTSTAMP:20260420T140235
CREATED:20250827T133542Z
LAST-MODIFIED:20250827T133542Z
UID:6388-1760641200-1760644800@www.bethelhill.org
SUMMARY:Choir Rehearsal
DESCRIPTION:
URL:https://www.bethelhill.org/event/choir-rehearsal-31/
LOCATION:SS Bldg.\, 2000 Bethel Rd\, LANSDALE\, PA\, 19446\, United States
END:VEVENT
BEGIN:VEVENT
DTSTART;TZID=America/New_York:20251016T180000
DTEND;TZID=America/New_York:20251016T183000
DTSTAMP:20260420T140235
CREATED:20250515T180550Z
LAST-MODIFIED:20251006T150741Z
UID:6188-1760637600-1760639400@www.bethelhill.org
SUMMARY:Praise Team Rehearsal
DESCRIPTION:
URL:https://www.bethelhill.org/event/praise-team-rehearsal-41-2025-10-16/
LOCATION:PA
END:VEVENT
BEGIN:VEVENT
DTSTART;TZID=America/New_York:20251015T183000
DTEND;TZID=America/New_York:20251015T193000
DTSTAMP:20260420T140235
CREATED:20250618T122829Z
LAST-MODIFIED:20250618T122829Z
UID:6329-1760553000-1760556600@www.bethelhill.org
SUMMARY:Charge Conference
DESCRIPTION:
URL:https://www.bethelhill.org/event/charge-conference-7/
LOCATION:Sanctuary\, 2000 Bethel Rd\, LANSDALE\, PA\, 19446\, United States
END:VEVENT
BEGIN:VEVENT
DTSTART;TZID=America/New_York:20251015T180000
DTEND;TZID=America/New_York:20251015T183000
DTSTAMP:20260420T140235
CREATED:20250618T122730Z
LAST-MODIFIED:20250618T122730Z
UID:6327-1760551200-1760553000@www.bethelhill.org
SUMMARY:Pre-Charge Conference SPRC meeting
DESCRIPTION:
URL:https://www.bethelhill.org/event/pre-charge-conference-sprc-meeting-2/
LOCATION:SS Bldg.\, 2000 Bethel Rd\, LANSDALE\, PA\, 19446\, United States
END:VEVENT
BEGIN:VEVENT
DTSTART;TZID=America/New_York:20251015T113000
DTEND;TZID=America/New_York:20251015T123000
DTSTAMP:20260420T140235
CREATED:20250515T182659Z
LAST-MODIFIED:20250710T183428Z
UID:6224-1760527800-1760531400@www.bethelhill.org
SUMMARY:Lunch Bunch
DESCRIPTION:
URL:https://www.bethelhill.org/event/lunch-bunch-45/2025-10-15/
LOCATION:Hayes Hall\, 2000 Bethel Rd\, LANSDALE\, PA\, 19446\, United States
END:VEVENT
BEGIN:VEVENT
DTSTART;TZID=America/New_York:20251014T190000
DTEND;TZID=America/New_York:20251014T200000
DTSTAMP:20260420T140235
CREATED:20250515T183347Z
LAST-MODIFIED:20250515T183347Z
UID:6260-1760468400-1760472000@www.bethelhill.org
SUMMARY:Private Group Meeting
DESCRIPTION:
URL:https://www.bethelhill.org/event/private-group-meeting-44/2025-10-14/
LOCATION:SS Bldg.\, 2000 Bethel Rd\, LANSDALE\, PA\, 19446\, United States
END:VEVENT
BEGIN:VEVENT
DTSTART;TZID=America/New_York:20251013T130000
DTEND;TZID=America/New_York:20251013T140000
DTSTAMP:20260420T140235
CREATED:20250618T124606Z
LAST-MODIFIED:20250618T124606Z
UID:6333-1760360400-1760364000@www.bethelhill.org
SUMMARY:MissionLink
DESCRIPTION:
URL:https://www.bethelhill.org/event/missionlink-2/
LOCATION:Hayes Hall\, 2000 Bethel Rd\, LANSDALE\, PA\, 19446\, United States
END:VEVENT
BEGIN:VEVENT
DTSTART;TZID=America/New_York:20251012T150000
DTEND;TZID=America/New_York:20251012T160000
DTSTAMP:20260420T140235
CREATED:20250812T122522Z
LAST-MODIFIED:20250812T122522Z
UID:6365-1760281200-1760284800@www.bethelhill.org
SUMMARY:Blessing of the Animals
DESCRIPTION:
URL:https://www.bethelhill.org/event/blessing-of-the-animals-3/
LOCATION:PA
END:VEVENT
BEGIN:VEVENT
DTSTART;TZID=America/New_York:20251012T103000
DTEND;TZID=America/New_York:20251012T113000
DTSTAMP:20260420T140235
CREATED:20250411T170030Z
LAST-MODIFIED:20250411T170030Z
UID:5995-1760265000-1760268600@www.bethelhill.org
SUMMARY:Worship1030
DESCRIPTION:
URL:https://www.bethelhill.org/event/worship1030-8/2025-10-12/
LOCATION:Sanctuary\, 2000 Bethel Rd\, LANSDALE\, PA\, 19446\, United States
END:VEVENT
END:VCALENDAR