BEGIN:VCALENDAR
VERSION:2.0
PRODID:-//Bethel Hill United Methodist Church - ECPv6.15.1.1//NONSGML v1.0//EN
CALSCALE:GREGORIAN
METHOD:PUBLISH
X-WR-CALNAME:Bethel Hill United Methodist Church
X-ORIGINAL-URL:https://www.bethelhill.org
X-WR-CALDESC:Events for Bethel Hill United Methodist Church
REFRESH-INTERVAL;VALUE=DURATION:PT1H
X-Robots-Tag:noindex
X-PUBLISHED-TTL:PT1H
BEGIN:VTIMEZONE
TZID:America/New_York
BEGIN:DAYLIGHT
TZOFFSETFROM:-0500
TZOFFSETTO:-0400
TZNAME:EDT
DTSTART:20250309T070000
END:DAYLIGHT
BEGIN:STANDARD
TZOFFSETFROM:-0400
TZOFFSETTO:-0500
TZNAME:EST
DTSTART:20251102T060000
END:STANDARD
END:VTIMEZONE
BEGIN:VEVENT
DTSTART;TZID=America/New_York:20250610T190000
DTEND;TZID=America/New_York:20250610T200000
DTSTAMP:20260420T061832
CREATED:20250515T183347Z
LAST-MODIFIED:20250515T183347Z
UID:6241-1749582000-1749585600@www.bethelhill.org
SUMMARY:Private Group Meeting
DESCRIPTION:
URL:https://www.bethelhill.org/event/private-group-meeting-44/2025-06-10/
LOCATION:SS Bldg.\, 2000 Bethel Rd\, LANSDALE\, PA\, 19446\, United States
END:VEVENT
BEGIN:VEVENT
DTSTART;VALUE=DATE:20250610
DTEND;VALUE=DATE:20250611
DTSTAMP:20260420T061832
CREATED:20250204T175815Z
LAST-MODIFIED:20250204T175815Z
UID:5766-1749513600-1749599999@www.bethelhill.org
SUMMARY:BUGLE newsletter info due
DESCRIPTION:
URL:https://www.bethelhill.org/event/bugle-newsletter-info-due-2/
LOCATION:PA
END:VEVENT
BEGIN:VEVENT
DTSTART;TZID=America/New_York:20250608T100000
DTEND;TZID=America/New_York:20250608T110000
DTSTAMP:20260420T061832
CREATED:20250204T162743Z
LAST-MODIFIED:20250204T162743Z
UID:5746-1749376800-1749380400@www.bethelhill.org
SUMMARY:Worship1000
DESCRIPTION:
URL:https://www.bethelhill.org/event/worship1000-2/
LOCATION:Sanctuary\, 2000 Bethel Rd\, LANSDALE\, PA\, 19446\, United States
END:VEVENT
BEGIN:VEVENT
DTSTART;TZID=America/New_York:20250608T090000
DTEND;TZID=America/New_York:20250608T100000
DTSTAMP:20260420T061832
CREATED:20250204T161111Z
LAST-MODIFIED:20250204T161111Z
UID:5736-1749373200-1749376800@www.bethelhill.org
SUMMARY:Worship900
DESCRIPTION:
URL:https://www.bethelhill.org/event/worship900-4/
LOCATION:Sanctuary\, 2000 Bethel Rd\, LANSDALE\, PA\, 19446\, United States
END:VEVENT
BEGIN:VEVENT
DTSTART;TZID=America/New_York:20250608T080000
DTEND;TZID=America/New_York:20250608T170000
DTSTAMP:20260420T061832
CREATED:20220202T193956Z
LAST-MODIFIED:20220202T193956Z
UID:7160-1749369600-1749402000@www.bethelhill.org
SUMMARY:Worship
DESCRIPTION:
URL:https://www.bethelhill.org/event/worship-32-2024-06-02/2025-06-08/
LOCATION:Sanctuary\, 2000 Bethel Rd\, LANSDALE\, PA\, 19446\, United States
END:VEVENT
BEGIN:VEVENT
DTSTART;TZID=America/New_York:20250607T080000
DTEND;TZID=America/New_York:20250607T090000
DTSTAMP:20260420T061832
CREATED:20250128T194019Z
LAST-MODIFIED:20250515T173515Z
UID:5671-1749283200-1749286800@www.bethelhill.org
SUMMARY:Men's Breakfast
DESCRIPTION:
URL:https://www.bethelhill.org/event/mens-breakfast-7/
LOCATION:Hayes Hall\, 2000 Bethel Rd\, LANSDALE\, PA\, 19446\, United States
END:VEVENT
BEGIN:VEVENT
DTSTART;TZID=America/New_York:20250606T183000
DTEND;TZID=America/New_York:20250606T193000
DTSTAMP:20260420T061832
CREATED:20250204T155256Z
LAST-MODIFIED:20250204T155256Z
UID:5726-1749234600-1749238200@www.bethelhill.org
SUMMARY:Private Group Meeting
DESCRIPTION:
URL:https://www.bethelhill.org/event/private-group-meeting-27/
LOCATION:SS Bldg.\, 2000 Bethel Rd\, LANSDALE\, PA\, 19446\, United States
END:VEVENT
BEGIN:VEVENT
DTSTART;TZID=America/New_York:20250605T190000
DTEND;TZID=America/New_York:20250605T200000
DTSTAMP:20260420T061832
CREATED:20250204T180138Z
LAST-MODIFIED:20250204T180138Z
UID:5770-1749150000-1749153600@www.bethelhill.org
SUMMARY:Chimes Rehearsal
DESCRIPTION:
URL:https://www.bethelhill.org/event/chimes-rehearsal-11/
LOCATION:SS Bldg.\, 2000 Bethel Rd\, LANSDALE\, PA\, 19446\, United States
END:VEVENT
BEGIN:VEVENT
DTSTART;TZID=America/New_York:20250605T181500
DTEND;TZID=America/New_York:20250605T190000
DTSTAMP:20260420T061832
CREATED:20250204T180236Z
LAST-MODIFIED:20250204T180236Z
UID:5772-1749147300-1749150000@www.bethelhill.org
SUMMARY:Praise Team rehearsal
DESCRIPTION:
URL:https://www.bethelhill.org/event/praise-team-rehearsal-35/
LOCATION:Sanctuary\, 2000 Bethel Rd\, LANSDALE\, PA\, 19446\, United States
END:VEVENT
BEGIN:VEVENT
DTSTART;TZID=America/New_York:20250603T190000
DTEND;TZID=America/New_York:20250603T200000
DTSTAMP:20260420T061832
CREATED:20250515T183347Z
LAST-MODIFIED:20250515T183347Z
UID:6240-1748977200-1748980800@www.bethelhill.org
SUMMARY:Private Group Meeting
DESCRIPTION:
URL:https://www.bethelhill.org/event/private-group-meeting-44/2025-06-03/
LOCATION:SS Bldg.\, 2000 Bethel Rd\, LANSDALE\, PA\, 19446\, United States
END:VEVENT
BEGIN:VEVENT
DTSTART;TZID=America/New_York:20250603T183000
DTEND;TZID=America/New_York:20250603T193000
DTSTAMP:20260420T061832
CREATED:20250219T142230Z
LAST-MODIFIED:20250219T142230Z
UID:5791-1748975400-1748979000@www.bethelhill.org
SUMMARY:VBS Planning meeting
DESCRIPTION:
URL:https://www.bethelhill.org/event/vbs-planning-meeting-3/
LOCATION:SS Bldg.\, 2000 Bethel Rd\, LANSDALE\, PA\, 19446\, United States
END:VEVENT
BEGIN:VEVENT
DTSTART;TZID=America/New_York:20250602T190000
DTEND;TZID=America/New_York:20250602T203000
DTSTAMP:20260420T061832
CREATED:20250204T155122Z
LAST-MODIFIED:20250515T175617Z
UID:5722-1748890800-1748896200@www.bethelhill.org
SUMMARY:Private Group Meeting - TM
DESCRIPTION:
URL:https://www.bethelhill.org/event/private-group-meeting-tm-7/
LOCATION:Hayes Hall\, 2000 Bethel Rd\, LANSDALE\, PA\, 19446\, United States
END:VEVENT
BEGIN:VEVENT
DTSTART;TZID=America/New_York:20250602T183000
DTEND;TZID=America/New_York:20250602T193000
DTSTAMP:20260420T061832
CREATED:20250204T175122Z
LAST-MODIFIED:20250515T175523Z
UID:5756-1748889000-1748892600@www.bethelhill.org
SUMMARY:Evangelism Team Meeting
DESCRIPTION:
URL:https://www.bethelhill.org/event/evangelism-team-meeting-5/
LOCATION:Church Office
END:VEVENT
BEGIN:VEVENT
DTSTART;TZID=America/New_York:20250601T100000
DTEND;TZID=America/New_York:20250601T110000
DTSTAMP:20260420T061832
CREATED:20250204T162634Z
LAST-MODIFIED:20250204T162634Z
UID:5744-1748772000-1748775600@www.bethelhill.org
SUMMARY:Worship1000
DESCRIPTION:
URL:https://www.bethelhill.org/event/worship1000/
LOCATION:Sanctuary\, 2000 Bethel Rd\, LANSDALE\, PA\, 19446\, United States
END:VEVENT
BEGIN:VEVENT
DTSTART;TZID=America/New_York:20250601T090000
DTEND;TZID=America/New_York:20250601T100000
DTSTAMP:20260420T061832
CREATED:20250204T161015Z
LAST-MODIFIED:20250204T161015Z
UID:5734-1748768400-1748772000@www.bethelhill.org
SUMMARY:Worship900
DESCRIPTION:
URL:https://www.bethelhill.org/event/worship900-3/
LOCATION:Sanctuary\, 2000 Bethel Rd\, LANSDALE\, PA\, 19446\, United States
END:VEVENT
BEGIN:VEVENT
DTSTART;TZID=America/New_York:20250601T080000
DTEND;TZID=America/New_York:20250601T170000
DTSTAMP:20260420T061832
CREATED:20220202T193956Z
LAST-MODIFIED:20220202T193956Z
UID:7159-1748764800-1748797200@www.bethelhill.org
SUMMARY:Worship
DESCRIPTION:
URL:https://www.bethelhill.org/event/worship-32-2024-06-02/2025-06-01/
LOCATION:Sanctuary\, 2000 Bethel Rd\, LANSDALE\, PA\, 19446\, United States
END:VEVENT
BEGIN:VEVENT
DTSTART;TZID=America/New_York:20250531T150000
DTEND;TZID=America/New_York:20250531T180000
DTSTAMP:20260420T061832
CREATED:20250304T141839Z
LAST-MODIFIED:20250304T141839Z
UID:5805-1748703600-1748714400@www.bethelhill.org
SUMMARY:Chicken BBQ
DESCRIPTION:
URL:https://www.bethelhill.org/event/chicken-bbq-8/
LOCATION:Hayes Hall\, 2000 Bethel Rd\, LANSDALE\, PA\, 19446\, United States
END:VEVENT
BEGIN:VEVENT
DTSTART;TZID=America/New_York:20250531T083000
DTEND;TZID=America/New_York:20250531T170000
DTSTAMP:20260420T061832
CREATED:20250304T141730Z
LAST-MODIFIED:20250304T141730Z
UID:5803-1748680200-1748710800@www.bethelhill.org
SUMMARY:Flea Market
DESCRIPTION:
URL:https://www.bethelhill.org/event/flea-market-3/
LOCATION:SS Bldg.\, 2000 Bethel Rd\, LANSDALE\, PA\, 19446\, United States
END:VEVENT
BEGIN:VEVENT
DTSTART;TZID=America/New_York:20250530T180000
DTEND;TZID=America/New_York:20250530T200000
DTSTAMP:20260420T061832
CREATED:20250204T154436Z
LAST-MODIFIED:20250515T175053Z
UID:5720-1748628000-1748635200@www.bethelhill.org
SUMMARY:Private Group Meeting
DESCRIPTION:
URL:https://www.bethelhill.org/event/private-group-meeting-26/
LOCATION:Sanctuary\, 2000 Bethel Rd\, LANSDALE\, PA\, 19446\, United States
END:VEVENT
BEGIN:VEVENT
DTSTART;TZID=America/New_York:20250529T181500
DTEND;TZID=America/New_York:20250529T190000
DTSTAMP:20260420T061832
CREATED:20250128T193821Z
LAST-MODIFIED:20250128T193821Z
UID:5667-1748542500-1748545200@www.bethelhill.org
SUMMARY:Praise Team Rehearsal
DESCRIPTION:
URL:https://www.bethelhill.org/event/praise-team-rehearsal-34/
LOCATION:Sanctuary\, 2000 Bethel Rd\, LANSDALE\, PA\, 19446\, United States
END:VEVENT
BEGIN:VEVENT
DTSTART;TZID=America/New_York:20250527T190000
DTEND;TZID=America/New_York:20250527T200000
DTSTAMP:20260420T061832
CREATED:20250515T183347Z
LAST-MODIFIED:20250515T183347Z
UID:6239-1748372400-1748376000@www.bethelhill.org
SUMMARY:Private Group Meeting
DESCRIPTION:
URL:https://www.bethelhill.org/event/private-group-meeting-44/2025-05-27/
LOCATION:SS Bldg.\, 2000 Bethel Rd\, LANSDALE\, PA\, 19446\, United States
END:VEVENT
BEGIN:VEVENT
DTSTART;TZID=America/New_York:20250527T190000
DTEND;TZID=America/New_York:20250527T200000
DTSTAMP:20260420T061832
CREATED:20250128T194824Z
LAST-MODIFIED:20250128T194824Z
UID:5680-1748372400-1748376000@www.bethelhill.org
SUMMARY:SPRC Meeting
DESCRIPTION:
URL:https://www.bethelhill.org/event/sprc-meeting-15/
LOCATION:SS Bldg.\, 2000 Bethel Rd\, LANSDALE\, PA\, 19446\, United States
END:VEVENT
BEGIN:VEVENT
DTSTART;TZID=America/New_York:20250525T103000
DTEND;TZID=America/New_York:20250525T113000
DTSTAMP:20260420T061832
CREATED:20250128T193044Z
LAST-MODIFIED:20250128T193044Z
UID:5651-1748169000-1748172600@www.bethelhill.org
SUMMARY:Worship 1030
DESCRIPTION:
URL:https://www.bethelhill.org/event/worship-1030-4/
LOCATION:Sanctuary\, 2000 Bethel Rd\, LANSDALE\, PA\, 19446\, United States
END:VEVENT
BEGIN:VEVENT
DTSTART;TZID=America/New_York:20250525T080000
DTEND;TZID=America/New_York:20250525T170000
DTSTAMP:20260420T061832
CREATED:20220202T193956Z
LAST-MODIFIED:20220202T193956Z
UID:7158-1748160000-1748192400@www.bethelhill.org
SUMMARY:Worship
DESCRIPTION:
URL:https://www.bethelhill.org/event/worship-32-2024-06-02/2025-05-25/
LOCATION:Sanctuary\, 2000 Bethel Rd\, LANSDALE\, PA\, 19446\, United States
END:VEVENT
BEGIN:VEVENT
DTSTART;TZID=America/New_York:20250523T180000
DTEND;TZID=America/New_York:20250523T200000
DTSTAMP:20260420T061832
CREATED:20250204T154350Z
LAST-MODIFIED:20250204T154350Z
UID:5718-1748023200-1748030400@www.bethelhill.org
SUMMARY:Private Group Meeting
DESCRIPTION:
URL:https://www.bethelhill.org/event/private-group-meeting-25/
LOCATION:SS Bldg.\, 2000 Bethel Rd\, LANSDALE\, PA\, 19446\, United States
END:VEVENT
BEGIN:VEVENT
DTSTART;TZID=America/New_York:20250521T123000
DTEND;TZID=America/New_York:20250521T133000
DTSTAMP:20260420T061832
CREATED:20250128T194337Z
LAST-MODIFIED:20250128T194337Z
UID:5678-1747830600-1747834200@www.bethelhill.org
SUMMARY:Lunch Bunch
DESCRIPTION:
URL:https://www.bethelhill.org/event/lunch-bunch-40/
LOCATION:Hayes Hall\, 2000 Bethel Rd\, LANSDALE\, PA\, 19446\, United States
END:VEVENT
BEGIN:VEVENT
DTSTART;TZID=America/New_York:20250520T190000
DTEND;TZID=America/New_York:20250520T200000
DTSTAMP:20260420T061832
CREATED:20250515T183347Z
LAST-MODIFIED:20250515T183347Z
UID:6238-1747767600-1747771200@www.bethelhill.org
SUMMARY:Private Group Meeting
DESCRIPTION:
URL:https://www.bethelhill.org/event/private-group-meeting-44/2025-05-20/
LOCATION:SS Bldg.\, 2000 Bethel Rd\, LANSDALE\, PA\, 19446\, United States
END:VEVENT
BEGIN:VEVENT
DTSTART;TZID=America/New_York:20250519T190000
DTEND;TZID=America/New_York:20250519T200000
DTSTAMP:20260420T061832
CREATED:20250128T193259Z
LAST-MODIFIED:20250128T193259Z
UID:5655-1747681200-1747684800@www.bethelhill.org
SUMMARY:Private Group Meeting – TM
DESCRIPTION:
URL:https://www.bethelhill.org/event/private-group-meeting-tm-6/
LOCATION:SS Bldg.\, 2000 Bethel Rd\, LANSDALE\, PA\, 19446\, United States
END:VEVENT
BEGIN:VEVENT
DTSTART;TZID=America/New_York:20250518T103000
DTEND;TZID=America/New_York:20250518T113000
DTSTAMP:20260420T061832
CREATED:20250128T192909Z
LAST-MODIFIED:20250128T192909Z
UID:5647-1747564200-1747567800@www.bethelhill.org
SUMMARY:Worship1030
DESCRIPTION:
URL:https://www.bethelhill.org/event/worship1030-3/
LOCATION:Sanctuary\, 2000 Bethel Rd\, LANSDALE\, PA\, 19446\, United States
END:VEVENT
BEGIN:VEVENT
DTSTART;TZID=America/New_York:20250518T090000
DTEND;TZID=America/New_York:20250518T100000
DTSTAMP:20260420T061832
CREATED:20250128T192756Z
LAST-MODIFIED:20250128T192756Z
UID:5645-1747558800-1747562400@www.bethelhill.org
SUMMARY:Worship900
DESCRIPTION:
URL:https://www.bethelhill.org/event/worship900-2/
LOCATION:Sanctuary\, 2000 Bethel Rd\, LANSDALE\, PA\, 19446\, United States
END:VEVENT
END:VCALENDAR