BEGIN:VCALENDAR
VERSION:2.0
PRODID:-//Bethel Hill United Methodist Church - ECPv6.15.1.1//NONSGML v1.0//EN
CALSCALE:GREGORIAN
METHOD:PUBLISH
X-WR-CALNAME:Bethel Hill United Methodist Church
X-ORIGINAL-URL:https://www.bethelhill.org
X-WR-CALDESC:Events for Bethel Hill United Methodist Church
REFRESH-INTERVAL;VALUE=DURATION:PT1H
X-Robots-Tag:noindex
X-PUBLISHED-TTL:PT1H
BEGIN:VTIMEZONE
TZID:America/New_York
BEGIN:DAYLIGHT
TZOFFSETFROM:-0500
TZOFFSETTO:-0400
TZNAME:EDT
DTSTART:20250309T070000
END:DAYLIGHT
BEGIN:STANDARD
TZOFFSETFROM:-0400
TZOFFSETTO:-0500
TZNAME:EST
DTSTART:20251102T060000
END:STANDARD
END:VTIMEZONE
BEGIN:VEVENT
DTSTART;TZID=America/New_York:20250404T080000
DTEND;TZID=America/New_York:20250406T123000
DTSTAMP:20260423T060605
CREATED:20250115T134218Z
LAST-MODIFIED:20250115T134218Z
UID:5545-1743753600-1743942600@www.bethelhill.org
SUMMARY:Help Build Hope
DESCRIPTION:
URL:https://www.bethelhill.org/event/help-build-hope-4/
LOCATION:Church Parking Lot\, 2000 Bethel Rd\, Lansdale\, PA\, 19446\, United States
END:VEVENT
BEGIN:VEVENT
DTSTART;TZID=America/New_York:20250406T080000
DTEND;TZID=America/New_York:20250406T170000
DTSTAMP:20260423T060605
CREATED:20220202T193956Z
LAST-MODIFIED:20220202T193956Z
UID:7151-1743926400-1743958800@www.bethelhill.org
SUMMARY:Worship
DESCRIPTION:
URL:https://www.bethelhill.org/event/worship-32-2024-06-02/2025-04-06/
LOCATION:Sanctuary\, 2000 Bethel Rd\, LANSDALE\, PA\, 19446\, United States
END:VEVENT
BEGIN:VEVENT
DTSTART;TZID=America/New_York:20250406T100000
DTEND;TZID=America/New_York:20250406T110000
DTSTAMP:20260423T060605
CREATED:20250115T135816Z
LAST-MODIFIED:20250115T135816Z
UID:5557-1743933600-1743937200@www.bethelhill.org
SUMMARY:Worship1
DESCRIPTION:
URL:https://www.bethelhill.org/event/worship1-5/
LOCATION:Sanctuary\, 2000 Bethel Rd\, LANSDALE\, PA\, 19446\, United States
END:VEVENT
BEGIN:VEVENT
DTSTART;TZID=America/New_York:20250406T100000
DTEND;TZID=America/New_York:20250406T130000
DTSTAMP:20260423T060605
CREATED:20250204T153558Z
LAST-MODIFIED:20250204T153558Z
UID:5707-1743933600-1743944400@www.bethelhill.org
SUMMARY:Consecration\, Messaging\, Loading
DESCRIPTION:
URL:https://www.bethelhill.org/event/consecration-messaging-loading/
LOCATION:Sanctuary & Parking Lot
END:VEVENT
END:VCALENDAR