BEGIN:VCALENDAR
VERSION:2.0
PRODID:-//Bethel Hill United Methodist Church - ECPv6.15.1.1//NONSGML v1.0//EN
CALSCALE:GREGORIAN
METHOD:PUBLISH
X-WR-CALNAME:Bethel Hill United Methodist Church
X-ORIGINAL-URL:https://www.bethelhill.org
X-WR-CALDESC:Events for Bethel Hill United Methodist Church
REFRESH-INTERVAL;VALUE=DURATION:PT1H
X-Robots-Tag:noindex
X-PUBLISHED-TTL:PT1H
BEGIN:VTIMEZONE
TZID:America/New_York
BEGIN:DAYLIGHT
TZOFFSETFROM:-0500
TZOFFSETTO:-0400
TZNAME:EDT
DTSTART:20250309T070000
END:DAYLIGHT
BEGIN:STANDARD
TZOFFSETFROM:-0400
TZOFFSETTO:-0500
TZNAME:EST
DTSTART:20251102T060000
END:STANDARD
END:VTIMEZONE
BEGIN:VEVENT
DTSTART;TZID=America/New_York:20250402T190000
DTEND;TZID=America/New_York:20250402T200000
DTSTAMP:20260420T073547
CREATED:20250204T152834Z
LAST-MODIFIED:20250204T152834Z
UID:5697-1743620400-1743624000@www.bethelhill.org
SUMMARY:Community Lenten Service - St. John ELCA
DESCRIPTION:
URL:https://www.bethelhill.org/event/community-lenten-service-st-john-elca/
LOCATION:1802 Skippack Pike\, Blue Bell
END:VEVENT
END:VCALENDAR