BEGIN:VCALENDAR
VERSION:2.0
PRODID:-//Bethel Hill United Methodist Church - ECPv6.15.1.1//NONSGML v1.0//EN
CALSCALE:GREGORIAN
METHOD:PUBLISH
X-WR-CALNAME:Bethel Hill United Methodist Church
X-ORIGINAL-URL:https://www.bethelhill.org
X-WR-CALDESC:Events for Bethel Hill United Methodist Church
REFRESH-INTERVAL;VALUE=DURATION:PT1H
X-Robots-Tag:noindex
X-PUBLISHED-TTL:PT1H
BEGIN:VTIMEZONE
TZID:America/New_York
BEGIN:DAYLIGHT
TZOFFSETFROM:-0500
TZOFFSETTO:-0400
TZNAME:EDT
DTSTART:20240310T070000
END:DAYLIGHT
BEGIN:STANDARD
TZOFFSETFROM:-0400
TZOFFSETTO:-0500
TZNAME:EST
DTSTART:20241103T060000
END:STANDARD
END:VTIMEZONE
BEGIN:VEVENT
DTSTART;TZID=America/New_York:20241222T080000
DTEND;TZID=America/New_York:20241222T170000
DTSTAMP:20260420T073859
CREATED:20220202T193956Z
LAST-MODIFIED:20220202T193956Z
UID:7136-1734854400-1734886800@www.bethelhill.org
SUMMARY:Worship
DESCRIPTION:
URL:https://www.bethelhill.org/event/worship-32-2024-06-02/2024-12-22/
LOCATION:Sanctuary\, 2000 Bethel Rd\, LANSDALE\, PA\, 19446\, United States
END:VEVENT
BEGIN:VEVENT
DTSTART;TZID=America/New_York:20241222T090000
DTEND;TZID=America/New_York:20241222T090000
DTSTAMP:20260420T073859
CREATED:20220202T193842Z
LAST-MODIFIED:20240415T170041Z
UID:3571-1734858000-1734858000@www.bethelhill.org
SUMMARY:Worship
DESCRIPTION:
URL:https://www.bethelhill.org/event/worship-31-2024-06-02/2024-12-22/
LOCATION:Sanctuary\, 2000 Bethel Rd\, LANSDALE\, PA\, 19446\, United States
END:VEVENT
BEGIN:VEVENT
DTSTART;TZID=America/New_York:20241222T090000
DTEND;TZID=America/New_York:20241222T233000
DTSTAMP:20260420T073859
CREATED:20240910T162948Z
LAST-MODIFIED:20240910T162948Z
UID:5182-1734858000-1734910200@www.bethelhill.org
SUMMARY:Christmas Cantata
DESCRIPTION:
URL:https://www.bethelhill.org/event/christmas-cantata-2/
LOCATION:Sanctuary\, 2000 Bethel Rd\, LANSDALE\, PA\, 19446\, United States
END:VEVENT
END:VCALENDAR